BEGIN:VCALENDAR
VERSION:2.0
PRODID:-//ChamberMaster//Event Calendar 2.0//EN
METHOD:PUBLISH
X-PUBLISHED-TTL:P3D
REFRESH-INTERVAL:P3D
CALSCALE:GREGORIAN
BEGIN:VEVENT
DTSTART:20210807T021500Z
DTEND:20210807T024500Z
X-MICROSOFT-CDO-ALLDAYEVENT:FALSE
SUMMARY:2021 Parade of Lights - Tomball Night
DESCRIPTION:2021 Tomball Night Parade of Lights\n\n\n\nThe Parade of Lights starts at 9:15 pm and is followed by a firework display at approx. 9:45 pm. \n\n \n\nThe Parade of Lights will run east on Main St. (FM 2920) from Vernon Blvd. to the railroad tracks\, then turn left on Peach St.  \n\nFireworks will follow immediately after the parade at The Depot (S. Elm/Market St.).\n\n \n\nAttendance and parking are free. There is a parking lot on N. Elm by the railroad tracks\, behind & in front of City Hall at 401 Market St. and parking can be found along the side streets throughout downtown Tomball. \n\n\n\nClick below for other Tomball Night events:\n\nTomball Night\n\nHealth & Wellness Expo
X-ALT-DESC;FMTTYPE=text/html:<p style="margin: 0in 0in 0pt\;"><strong><span style="color: rgb(0\, 0\, 255)\;"><span style="font-family: arial\;"><font size="3">2021 Tomball Night Parade of Lights</font></span></span></strong><br />\n<br />\n<span style="font-size: 14px\;"><span style="font-family: arial\;"><span style="color: rgb(0\, 0\, 255)\;">The Parade of Lights starts at&nbsp\;9:15 pm and is followed by a firework display at approx.&nbsp\;9:45 pm.&nbsp\;</span><br />\n&nbsp\;<br />\n<span style="color: rgb(0\, 0\, 255)\;">The Parade of Lights will run east on Main St. (FM 2920) from Vernon Blvd. to the railroad tracks\, then turn left on Peach St. &nbsp\;<br />\nFireworks will follow immediately after the parade at The Depot (S. Elm/Market St.).</span><br />\n&nbsp\;<br />\n<span style="color: rgb(0\, 0\, 255)\;">Attendance and parking are free. There is a parking lot on N. Elm by the railroad tracks\, behind &amp\; in front of City Hall at 401 Market St. and parking can be found along the side streets throughout downtown Tomball.&nbsp\;</span></span></span><br />\n<br />\n<span style="color: rgb(0\, 0\, 255)\; font-family: arial\; font-size: 14px\;">Click below for other Tomball Night events:<br />\n<a href="https://business.tomballchamber.org/events/details/tomball-night-2021-34559">Tomball Night</a><br />\n<a href="https://business.tomballchamber.org/events/details/health-wellness-alliance-health-wellness-expo-08-06-2021-17741">Health &amp\; Wellness Expo</a></span></p>\n
LOCATION:The Parade of Lights will run east on Main St. (FM 2920) from Vernon Blvd. to the railroad tracks.
UID:e.155.34561
SEQUENCE:3
DTSTAMP:20260422T223736Z
URL:http://tomballchamber-gzcms.preview.gochambermaster.com/events/details/2021-parade-of-lights-tomball-night-34561
END:VEVENT

END:VCALENDAR
