BEGIN:VCALENDAR
VERSION:2.0
PRODID:-//ChamberMaster//Event Calendar 2.0//EN
METHOD:PUBLISH
X-PUBLISHED-TTL:P3D
REFRESH-INTERVAL:P3D
CALSCALE:GREGORIAN
BEGIN:VEVENT
DTSTART:20220806T021500Z
DTEND:20220806T024500Z
X-MICROSOFT-CDO-ALLDAYEVENT:FALSE
SUMMARY:2022 Parade of Lights - Tomball Night
DESCRIPTION:2022 Tomball Night Parade of Lights\n\nWe are celebrating 20 years of lighting up Main Street on Tomball Night!\n\nBe a part of the fun - Entry Fee is $50\n\n\n\nPARADE OF LIGHTS ENTRY FORM\n\nEntry Forms Due Monday\, July 25th\n\nReturn entry form via email\, fax\, or by dropping the form off at the Chamber Office.\n\nCash\, Check\, Credit Cards Accepted\n\n\n\nThe Parade of Lights starts at 9:15 pm and is followed by a firework display at approx. 9:45 pm. \n\n \n\nThe Parade of Lights will run east on Main St. (FM 2920) from Baker to the railroad tracks\, then turn left on Peach St.  \n\nFireworks will follow immediately after the parade at The Depot (S. Elm/Market St.).\n\n \n\nAttendance and parking are free. There is a parking lot on N. Elm by the railroad tracks\, behind & in front of City Hall at 401 Market St. and parking can be found along the side streets throughout downtown Tomball.
X-ALT-DESC;FMTTYPE=text/html:<p style="margin: 0in 0in 0pt\;"><strong><span style="color:#0000FF\;"><span style="font-family: arial\;"><font size="3"><span style="font-size:18px\;">2022 Tomball Night Parade of Lights</span></font></span><br />\nWe are celebrating 20 years of lighting up Main Street on Tomball Night!<br />\nBe a part of the fun - Entry Fee is $50</span><br />\n<br />\n<span style="font-family: arial\;"><font size="3"><span style="font-size:20px\;"><a href="https://chambermaster.blob.core.windows.net/userfiles/UserFiles/chambers/155/File/ParadeEntryApplication_2022.pdf"><span style="color:#FF0000\;">PARADE OF LIGHTS ENTRY FORM</span></a></span></font></span><br />\n<span style="color:#FF0000\;"><span style="font-family: arial\;"><font size="3">Entry Forms Due Monday\, July 25th<br />\nReturn entry form via email\, fax\, or by dropping the form off at the Chamber Office.<br />\nCash\, Check\, Credit Cards Accepted</font></span></span></strong><br />\n<br />\n<span style="font-size: 14px\;"><span style="font-family: arial\;"><span style="color: rgb(0\, 0\, 255)\;">The Parade of Lights starts at&nbsp\;9:15 pm and is followed by a firework display at approx.&nbsp\;9:45 pm.&nbsp\;</span><br />\n&nbsp\;<br />\n<span style="color: rgb(0\, 0\, 255)\;">The Parade of Lights will run east on Main St. (FM 2920) from Baker to the railroad tracks\, then turn left on Peach St. &nbsp\;<br />\nFireworks will follow immediately after the parade at The Depot (S. Elm/Market St.).</span><br />\n&nbsp\;<br />\n<span style="color: rgb(0\, 0\, 255)\;">Attendance and parking are free. There is a parking lot on N. Elm by the railroad tracks\, behind &amp\; in front of City Hall at 401 Market St. and parking can be found along the side streets throughout downtown Tomball.&nbsp\;</span></span></span></p>\n
LOCATION:The Parade of Lights will run east on Main St. (FM 2920) from Baker to the railroad tracks.
UID:e.155.35965
SEQUENCE:3
DTSTAMP:20260421T001920Z
URL:http://tomballchamber-gzcms.preview.gochambermaster.com/events/details/2022-parade-of-lights-tomball-night-35965
END:VEVENT

END:VCALENDAR
