BEGIN:VCALENDAR
VERSION:2.0
PRODID:-//ChamberMaster//Event Calendar 2.0//EN
METHOD:PUBLISH
X-PUBLISHED-TTL:P3D
REFRESH-INTERVAL:P3D
CALSCALE:GREGORIAN
BEGIN:VEVENT
DTSTART:20230204T200000Z
DTEND:20230204T220000Z
X-MICROSOFT-CDO-ALLDAYEVENT:FALSE
SUMMARY:5 Best Wines to Pair with Chili Wine Tasting
DESCRIPTION:Pick your favorite wine to pair with our homemade chili! 25/person No reservations required. Stop in any time between 2 and 4pm @ The Empty Glass.
X-ALT-DESC;FMTTYPE=text/html:Pick your favorite wine to pair with our homemade chili! 25/person No reservations required. Stop in any time between 2 and 4pm @ The Empty Glass.
LOCATION:The Empty Glass 104 Market Street Tomball\, TX 77375
UID:e.155.37834
SEQUENCE:3
DTSTAMP:20260420T094452Z
URL:http://tomballchamber-gzcms.preview.gochambermaster.com/events/details/5-best-wines-to-pair-with-chili-wine-tasting-37834
END:VEVENT

END:VCALENDAR
