BEGIN:VCALENDAR
VERSION:2.0
PRODID:-//ChamberMaster//Event Calendar 2.0//EN
METHOD:PUBLISH
X-PUBLISHED-TTL:P3D
REFRESH-INTERVAL:P3D
CALSCALE:GREGORIAN
BEGIN:VEVENT
DTSTART:20200126T220000Z
DTEND:20200126T233000Z
X-MICROSOFT-CDO-ALLDAYEVENT:FALSE
SUMMARY:A.D. Players presents “The Lion\, The Witch and The Wardrobe”
DESCRIPTION:Kinsmen Lutheran Church is thrilled to welcome the A.D. Players for a performance of "The Lion\, The Witch and The Wardrobe\," from the C.S. Lewis classic\, "The Chronicles of Narnia." This charming play will be staged at Kinsmen on Sunday\, January 26 and is ideal for children in kindergarten through 8th grade\, as well as the young at heart. The performance is free of charge and open to the community thanks to a generous grant from the Kinsmen Endowment Fund. Tickets are not required\, but RSVP's are appreciated at KinsmenLutheran.org.
X-ALT-DESC;FMTTYPE=text/html:Kinsmen Lutheran Church is thrilled to welcome the A.D. Players for a performance of &ldquo\;The Lion\, The Witch and The Wardrobe\,&rdquo\; from the C.S. Lewis classic\, &ldquo\;The Chronicles of Narnia.&rdquo\; This charming play will be staged at Kinsmen on Sunday\, January 26 and is ideal for children in kindergarten through 8th grade\, as well as the young at heart. The performance is free of charge and open to the community thanks to a generous grant from the Kinsmen Endowment Fund. Tickets are not required\, but RSVP&rsquo\;s are appreciated at KinsmenLutheran.org.
LOCATION:Kinsmen Lutheran Church 12100 Champion Forest Drive Houston\, TX 77066
UID:e.155.32142
SEQUENCE:3
DTSTAMP:20260425T035250Z
URL:http://tomballchamber-gzcms.preview.gochambermaster.com/events/details/a-d-players-presents-the-lion-the-witch-and-the-wardrobe-32142
END:VEVENT

END:VCALENDAR
