BEGIN:VCALENDAR
VERSION:2.0
PRODID:-//ChamberMaster//Event Calendar 2.0//EN
METHOD:PUBLISH
X-PUBLISHED-TTL:P3D
REFRESH-INTERVAL:P3D
CALSCALE:GREGORIAN
BEGIN:VEVENT
DTSTART:20190520T170000Z
DTEND:20190520T170000Z
X-MICROSOFT-CDO-ALLDAYEVENT:FALSE
SUMMARY:Alzheimers Golf Tournament
DESCRIPTION:Raveneaux Country Club is hosting a Golf Tournament with Village Green. This tournament has over $50\,000 in prizes and will be raising money for the Alzheimer's Association- Longest Day! Tom Peacock Cadillac will have a XT4 2019 to win on Hole 17 and much much more!! T sign sponsorships are available as low as $150.
X-ALT-DESC;FMTTYPE=text/html:Raveneaux Country Club is hosting a Golf Tournament with Village Green. This tournament has over $50\,000 in prizes and will be raising money for the Alzheimer&#39\;s Association- Longest Day! Tom Peacock Cadillac will have a XT4 2019 to win on Hole 17 and much much more!! T sign sponsorships are available as low as $150.
LOCATION:Raveneaux Country Club 9415 Cypresswood Dr Spring Tx 77379
UID:e.155.30442
SEQUENCE:3
DTSTAMP:20260426T014227Z
URL:http://tomballchamber-gzcms.preview.gochambermaster.com/events/details/alzheimers-golf-tournament-30442
END:VEVENT

END:VCALENDAR
