BEGIN:VCALENDAR
VERSION:2.0
PRODID:-//ChamberMaster//Event Calendar 2.0//EN
METHOD:PUBLISH
X-PUBLISHED-TTL:P3D
REFRESH-INTERVAL:P3D
CALSCALE:GREGORIAN
BEGIN:VEVENT
DTSTART:20210831T170000Z
DTEND:20210831T180000Z
X-MICROSOFT-CDO-ALLDAYEVENT:FALSE
SUMMARY:Ambassadors Meeting
DESCRIPTION:Monthly Ambassadors Meeting\n\n\n\nWe will be in the Chamber Board Room (upstairs).
X-ALT-DESC;FMTTYPE=text/html:Monthly Ambassadors Meeting<br />\n<br />\nWe will be in the Chamber Board Room (upstairs).&nbsp\;
LOCATION:29201 Quinn Rd. Tomball\, TX 77375
UID:e.155.34875
SEQUENCE:3
DTSTAMP:20260422T223434Z
URL:http://tomballchamber-gzcms.preview.gochambermaster.com/events/details/ambassadors-meeting-34875
END:VEVENT

END:VCALENDAR
