BEGIN:VCALENDAR
VERSION:2.0
PRODID:-//ChamberMaster//Event Calendar 2.0//EN
METHOD:PUBLISH
X-PUBLISHED-TTL:P3D
REFRESH-INTERVAL:P3D
CALSCALE:GREGORIAN
BEGIN:VEVENT
DTSTART:20231021T160000Z
DTEND:20231021T190000Z
X-MICROSOFT-CDO-ALLDAYEVENT:FALSE
SUMMARY:Amira Fall Fest Ushers in Autumn Oct. 21
DESCRIPTION:A "gourd" time is sure to be had by all when Amira ushers in autumn with a free Fall Fest 11 a.m. to 2 p.m. Saturday\, Oct. 21.   The Resort at Amira\, 19434 Tobiano Park Drive in Tomball\, will be the site of fun\, fall-themed activities that include a corn maze\, petting zoo\, needle in a haystack game and more. Children can saddle up for stick pony races. The community's six professionally decorated model homes will be open for touring.   Learn more at https://amiratexas.com.
X-ALT-DESC;FMTTYPE=text/html:A &ldquo\;gourd&rdquo\; time is sure to be had by all when Amira ushers in autumn with a free Fall Fest 11 a.m. to 2 p.m. Saturday\, Oct. 21. &nbsp\; The Resort at Amira\, 19434 Tobiano Park Drive in Tomball\, will be the site of fun\, fall-themed activities that include a corn maze\, petting zoo\, needle in a haystack game and more. Children can saddle up for stick pony races. The community&rsquo\;s six professionally decorated model homes will be open for touring. &nbsp\; Learn more at https://amiratexas.com.
LOCATION:The Resort at Amira 19434 Tobiano Park Drive Tomball\, TX 77377
UID:e.155.38065
SEQUENCE:3
DTSTAMP:20260419T180809Z
URL:http://tomballchamber-gzcms.preview.gochambermaster.com/events/details/amira-fall-fest-ushers-in-autumn-oct-21-38065
END:VEVENT

END:VCALENDAR
