BEGIN:VCALENDAR
VERSION:2.0
PRODID:-//ChamberMaster//Event Calendar 2.0//EN
METHOD:PUBLISH
X-PUBLISHED-TTL:P3D
REFRESH-INTERVAL:P3D
CALSCALE:GREGORIAN
BEGIN:VEVENT
DTSTART:20210403T150000Z
DTEND:20210403T170000Z
X-MICROSOFT-CDO-ALLDAYEVENT:FALSE
SUMMARY:An Easter Shell-ebration!
DESCRIPTION:Join us for a FREE community wide Easter Shell-Ebration at our Tomball United Methodist! We will have age group egg hunts\, bounce houses\, games\, face painting\, Easter Bunny photo ops and tasty treats!!
X-ALT-DESC;FMTTYPE=text/html:Join us for a FREE community wide Easter Shell-Ebration at our Tomball United Methodist! We will have age group egg hunts\, bounce houses\, games\, face painting\, Easter Bunny photo ops and tasty treats!!
LOCATION:1603 Baker Drive (acreage)
UID:e.155.34511
SEQUENCE:3
DTSTAMP:20260423T183413Z
URL:http://tomballchamber-gzcms.preview.gochambermaster.com/events/details/an-easter-shell-ebration-34511
END:VEVENT

END:VCALENDAR
