BEGIN:VCALENDAR
VERSION:2.0
PRODID:-//ChamberMaster//Event Calendar 2.0//EN
METHOD:PUBLISH
X-PUBLISHED-TTL:P3D
REFRESH-INTERVAL:P3D
CALSCALE:GREGORIAN
BEGIN:VEVENT
DTSTART:20200422T150000Z
DTEND:20200422T180000Z
X-MICROSOFT-CDO-ALLDAYEVENT:FALSE
SUMMARY:Annual LSC - Tomball Career Fair Presented by: Tomball Economic Development Corporation
DESCRIPTION:The Tomball Economic Development Corporation and Lone Star College - Tomball are partnering to host the LSC - Tomball Career Fair. Our goal for this event is to connect job seekers with local businesses that are hiring in our area! The event is open to the community and free of charge for both job seekers and businesses that would like to have a booth. Printed resumes and interview attire are encouraged. If you are a company that would like to participate\, please see the link below to reserve a space: https://tomballeconomicdevelopmentcorporation.formstack.com/forms/career_fair_registration_form_for_businesses Booth set-up for businesses attending will be from 9:00 a.m. - 10:00 a.m. Registration will close April 6\, 2020. For any additional questions please contact Tori Gleason at tgleason@tomballtxedc.org or 281-401-4086.
X-ALT-DESC;FMTTYPE=text/html:The Tomball Economic Development Corporation and Lone Star College - Tomball are partnering to host the LSC - Tomball Career Fair. Our goal for this event is to connect job seekers with local businesses that are hiring in our area! The event is open to the community and free of charge for both job seekers and businesses that would like to have a booth. Printed resumes and interview attire are encouraged. If you are a company that would like to participate\, please see the link below to reserve a space: https://tomballeconomicdevelopmentcorporation.formstack.com/forms/career_fair_registration_form_for_businesses Booth set-up for businesses attending will be from 9:00 a.m. - 10:00 a.m. Registration will close April 6\, 2020. For any additional questions please contact Tori Gleason at tgleason@tomballtxedc.org or 281-401-4086.
LOCATION:Lone Star College - Tomball Beckendorf Conference Center 30555 Tomball Parkway\, Tomball\, Texas 77375
UID:e.155.32400
SEQUENCE:3
DTSTAMP:20260424T234056Z
URL:http://tomballchamber-gzcms.preview.gochambermaster.com/events/details/annual-lsc-tomball-career-fair-presented-by-tomball-economic-development-corporation-32400
END:VEVENT

END:VCALENDAR
