BEGIN:VCALENDAR
VERSION:2.0
PRODID:-//ChamberMaster//Event Calendar 2.0//EN
METHOD:PUBLISH
X-PUBLISHED-TTL:P3D
REFRESH-INTERVAL:P3D
CALSCALE:GREGORIAN
BEGIN:VEVENT
DTSTART:20190504T150000Z
DTEND:20190504T190000Z
X-MICROSOFT-CDO-ALLDAYEVENT:FALSE
SUMMARY:Bump Day Celebration
DESCRIPTION:Please join us for 18 vendors (including 4 sponsors) that specialize in Moms and Baby Items and Services! Free to Families! Activities for all ages! Bounce House\, Face Painting\, Photo Booth\, Live DJ\, BBQ Food Truck and Cravings Bar! 50 Families receive a swag bag full of samples and coupons with over $200 in savings from businesses from around the area! ***GRANDPRIZE by coming to our event you have a chance to win a GRACO PACK N' PLAY Portable Bouncer/Bassinet! ** Door Prizes\, Health Screenings\, Mini intro class regarding chiropractic and pregnancy/kids. Raising money that day for LOVE FOSTERS HOPE a local non-profit to help kids in foster care.
X-ALT-DESC;FMTTYPE=text/html:Please join us for 18 vendors (including 4 sponsors) that specialize in Moms and Baby Items and Services! Free to Families! Activities for all ages! Bounce House\, Face Painting\, Photo Booth\, Live DJ\, BBQ Food Truck and Cravings Bar! 50 Families receive a swag bag full of samples and coupons with over $200 in savings from businesses from around the area! ***GRANDPRIZE by coming to our event you have a chance to win a GRACO PACK N&#39\; PLAY Portable Bouncer/Bassinet! ** Door Prizes\, Health Screenings\, Mini intro class regarding chiropractic and pregnancy/kids. Raising money that day for LOVE FOSTERS HOPE a local non-profit to help kids in foster care.
LOCATION:Quality of Life Chiropractic 6910 FM 1488\, #3 Magnolia\, TX 77354
UID:e.155.31106
SEQUENCE:3
DTSTAMP:20260426T025407Z
URL:http://tomballchamber-gzcms.preview.gochambermaster.com/events/details/bump-day-celebration-31106
END:VEVENT

END:VCALENDAR
