BEGIN:VCALENDAR
VERSION:2.0
PRODID:-//ChamberMaster//Event Calendar 2.0//EN
METHOD:PUBLISH
X-PUBLISHED-TTL:P3D
REFRESH-INTERVAL:P3D
CALSCALE:GREGORIAN
BEGIN:VEVENT
DTSTART:20210520T220000Z
DTEND:20210521T000000Z
X-MICROSOFT-CDO-ALLDAYEVENT:FALSE
SUMMARY:Business After Hours - Party Time!
DESCRIPTION:Party Time! GTACC Business After Hours Hosted by:\n\nBurke Carpet Cleaning Services\, Tomball German Festivals\, NiteLites of Houston\, Philips Cleaning Services\, W & W Technologies & Tomball Rental!!! \n\nDoor Prizes! Food & Beverages! Who says work can't be fun?
X-ALT-DESC;FMTTYPE=text/html:Party Time! GTACC Business After Hours Hosted by:<br />\nBurke Carpet Cleaning Services\, Tomball German Festivals\, NiteLites of Houston\, Philips Cleaning Services\, W &amp\; W Technologies &amp\; Tomball Rental!!!&nbsp\;<br />\nDoor Prizes! Food &amp\; Beverages! Who says work can&#39\;t be fun?<br />\n&nbsp\;
LOCATION:13915 Hirschfield Rd. Tomball\, TX 77377
UID:e.155.34549
SEQUENCE:3
DTSTAMP:20260423T124231Z
URL:http://tomballchamber-gzcms.preview.gochambermaster.com/events/details/business-after-hours-party-time-34549
END:VEVENT

END:VCALENDAR
