BEGIN:VCALENDAR
VERSION:2.0
PRODID:-//ChamberMaster//Event Calendar 2.0//EN
METHOD:PUBLISH
X-PUBLISHED-TTL:P3D
REFRESH-INTERVAL:P3D
CALSCALE:GREGORIAN
BEGIN:VEVENT
DTSTART:20210819T220000Z
DTEND:20210820T000000Z
X-MICROSOFT-CDO-ALLDAYEVENT:FALSE
SUMMARY:Business After Hours - Sandlewood Manor
DESCRIPTION:Business After Hours at the luxurious Sandlewood Manor! Enjoy chef-prepared hors d'oeuvers and cocktails while networking and touring the facility!
X-ALT-DESC;FMTTYPE=text/html:Business After Hours at the luxurious Sandlewood Manor! Enjoy chef-prepared hors d&#39\;oeuvers and cocktails while networking and touring the facility!&nbsp\;
LOCATION:Sandlewood Manor 22402 Holly Creek Trail Tomball\, TX 77377
UID:e.155.34864
SEQUENCE:3
DTSTAMP:20260422T223735Z
URL:http://tomballchamber-gzcms.preview.gochambermaster.com/events/details/business-after-hours-sandlewood-manor-34864
END:VEVENT

END:VCALENDAR
