BEGIN:VCALENDAR
VERSION:2.0
PRODID:-//ChamberMaster//Event Calendar 2.0//EN
METHOD:PUBLISH
X-PUBLISHED-TTL:P3D
REFRESH-INTERVAL:P3D
CALSCALE:GREGORIAN
BEGIN:VEVENT
DTSTART:20220913T220000Z
DTEND:20220914T000000Z
X-MICROSOFT-CDO-ALLDAYEVENT:FALSE
SUMMARY:Business After Hours - Tomball Dodge
DESCRIPTION:Business After Hours at Tomball Dodge\n\nFood / Drinks / Door Prizes\n\n* Donations for Boys and Girls Country\n\nDate:         Tuesday\, September 13th\, 2022\n\nTime:         5:00 PM   7:00 PM\n\nLocation:   Tomball Dodge\, 23777 SH 249\, Tomball\, TX. 77375\n\n\n\nBoys and Girls Country Requested Items:\n\n\n	5-piece comforter bedding sets\, twin\, and twin XL\n	Standard Size Pillows\n	Laundry Baskets\n	Twin Mattress Pad Covers\, twin\, and twin XL\n	White Bath towels\, hand towels\, wash cloths
X-ALT-DESC;FMTTYPE=text/html:<p><span style="font-size:14px\;"><span style="font-family:arial\;"><strong><span style="color:red\;">Business After Hours at Tomball Dodge</span></strong></span></span></p>\n\n<p><span style="font-size:14px\;"><span style="font-family:arial\;"><strong>Food / Drinks / Door Prizes</strong></span></span><br />\n<strong style="font-family: arial\; font-size: 14px\;"><span style="color:#005828\;">* Donations for Boys and Girls Country</span></strong></p>\n\n<p><span style="font-size:14px\;"><span style="font-family:arial\;"><strong><span style="color:red\;">Date:&nbsp\; &nbsp\;&nbsp\;&nbsp\;&nbsp\;&nbsp\;&nbsp\;&nbsp\;Tuesday\, September 13<sup>th\, </sup>2022</span></strong><br />\n<strong><span style="color:red\;">Time:&nbsp\; &nbsp\;&nbsp\;&nbsp\;&nbsp\;&nbsp\;&nbsp\;&nbsp\;5:00 PM &ndash\; 7:00 PM</span></strong><br />\n<strong><span style="color:red\;">Location:&nbsp\; &nbsp\;Tomball Dodge\, 23777 SH 249\, Tomball\, TX. 77375</span></strong><br />\n<br />\n<strong><span style="color:#005828\;">Boys and Girls Country Requested Items:</span></strong></span></span></p>\n\n<ul>\n	<li><span style="font-size:14px\;"><span style="font-family:arial\;"><span style="background:yellow\;">5-piece comforter bedding sets\, twin\, and twin XL</span></span></span></li>\n	<li><span style="font-size:14px\;"><span style="font-family:arial\;"><span style="background:yellow\;">Standard Size Pillows</span></span></span></li>\n	<li><span style="font-size:14px\;"><span style="font-family:arial\;"><span style="background:yellow\;">Laundry Baskets</span></span></span></li>\n	<li><span style="font-size:14px\;"><span style="font-family:arial\;"><span style="background:yellow\;">Twin Mattress Pad Covers\, twin\, and twin XL</span></span></span></li>\n	<li><span style="font-size:14px\;"><span style="font-family:arial\;"><span style="background:yellow\;">White Bath towels\, hand towels\, wash cloths</span></span></span></li>\n</ul>\n
LOCATION:23777 SH 249 Tomball\, TX 77375
UID:e.155.36222
SEQUENCE:3
DTSTAMP:20260420T211959Z
URL:http://tomballchamber-gzcms.preview.gochambermaster.com/events/details/business-after-hours-tomball-dodge-36222
END:VEVENT

END:VCALENDAR
