BEGIN:VCALENDAR
VERSION:2.0
PRODID:-//ChamberMaster//Event Calendar 2.0//EN
METHOD:PUBLISH
X-PUBLISHED-TTL:P3D
REFRESH-INTERVAL:P3D
CALSCALE:GREGORIAN
BEGIN:VEVENT
DTSTART:20230223T230000Z
DTEND:20230224T010000Z
X-MICROSOFT-CDO-ALLDAYEVENT:FALSE
SUMMARY:Business After Hours - Tomball Emergency Assistance Ministries
DESCRIPTION:Business After Hours at TEAM (Tomball Emergency Assistance Ministries)!\n\nFood\, Drinks\, Door Prizes!
X-ALT-DESC;FMTTYPE=text/html:Business After Hours at TEAM (Tomball Emergency Assistance Ministries)!<br />\nFood\, Drinks\, Door Prizes!
LOCATION:300 W. Main St. Tomball\, TX 77375
UID:e.155.37844
SEQUENCE:3
DTSTAMP:20260420T113018Z
URL:http://tomballchamber-gzcms.preview.gochambermaster.com/events/details/business-after-hours-tomball-emergency-assistance-ministries-37844
END:VEVENT

END:VCALENDAR
