BEGIN:VCALENDAR
VERSION:2.0
PRODID:-//ChamberMaster//Event Calendar 2.0//EN
METHOD:PUBLISH
X-PUBLISHED-TTL:P3D
REFRESH-INTERVAL:P3D
CALSCALE:GREGORIAN
BEGIN:VEVENT
DTSTART:20220710T150000Z
DTEND:20220710T230000Z
X-MICROSOFT-CDO-ALLDAYEVENT:FALSE
SUMMARY:CHILDREN'S MIRACLE NETWORK FUNDRAISER AT WALMART
DESCRIPTION:This is our final day of the fundraiser.\n\n\n\nWe will hosting a "Throw a pie at a city official".\n\nMayor Quinn\, a councilman\, members of both the fire and police departments\, and a few VFW members will all be the victims. Participants. Both Rusty\, the Tomball Mascot\, and Miss Tomball\, Breleigh Rose\, will be the honorary starters of the pie throwing event.\n\nThe Pie Throwing will begin at 2:30 pm!
X-ALT-DESC;FMTTYPE=text/html:This is our final day of the fundraiser.<br />\n<br />\nWe will hosting a &quot\;Throw a pie at a city official&quot\;.<br />\nMayor Quinn\, a councilman\, members of both the fire and police departments\, and a few VFW members will all be the victims. Participants. Both Rusty\, the Tomball Mascot\, and Miss Tomball\, Breleigh Rose\, will be the honorary starters of the pie throwing event.<br />\nThe Pie Throwing will begin at 2:30 pm!
LOCATION:27650 Tomball Parkway
UID:e.155.36209
SEQUENCE:3
DTSTAMP:20260421T092333Z
URL:http://tomballchamber-gzcms.preview.gochambermaster.com/events/details/children-s-miracle-network-fundraiser-at-walmart-07-10-2022-36209
END:VEVENT

END:VCALENDAR
