BEGIN:VCALENDAR
VERSION:2.0
PRODID:-//ChamberMaster//Event Calendar 2.0//EN
METHOD:PUBLISH
X-PUBLISHED-TTL:P3D
REFRESH-INTERVAL:P3D
CALSCALE:GREGORIAN
BEGIN:VEVENT
DTSTART:20200310T163000Z
DTEND:20200310T180000Z
X-MICROSOFT-CDO-ALLDAYEVENT:FALSE
SUMMARY:Christian Business Luncheon
DESCRIPTION:The guest speaker will be Debi Ronca\, President of Sequoia Coaching. Debi is an international Best-Selling Author\, Certified Life Coach\, Speaker and DISC Personality Profile Trainer with The John Maxwell Team.
X-ALT-DESC;FMTTYPE=text/html:The guest speaker will be Debi Ronca\, President of Sequoia Coaching. Debi is an international Best-Selling Author\, Certified Life Coach\, Speaker and DISC Personality Profile Trainer with The John Maxwell Team.
LOCATION:NOTE- Location Change for this month. Luncheon will be held at Church 137 at 14050 Park Road in Tomball.
UID:e.155.32408
SEQUENCE:3
DTSTAMP:20260425T022526Z
URL:http://tomballchamber-gzcms.preview.gochambermaster.com/events/details/christian-business-luncheon-03-10-2020-32408
END:VEVENT

END:VCALENDAR
