BEGIN:VCALENDAR
VERSION:2.0
PRODID:-//ChamberMaster//Event Calendar 2.0//EN
METHOD:PUBLISH
X-PUBLISHED-TTL:P3D
REFRESH-INTERVAL:P3D
CALSCALE:GREGORIAN
BEGIN:VEVENT
DTSTART:20200908T170000Z
DTEND:20200908T180000Z
X-MICROSOFT-CDO-ALLDAYEVENT:FALSE
SUMMARY:Christian Business Luncheon
DESCRIPTION:Guest Speaker is local businessman and community leader Leo Corley. This will be an in person luncheon but you can also attend on Zoom with login information posted on the CBL website. RSVP's are required due to the limited sitting in keeping with the COVID 19 recommendations.
X-ALT-DESC;FMTTYPE=text/html:Guest Speaker is local businessman and community leader Leo Corley. This will be an in person luncheon but you can also attend on Zoom with login information posted on the CBL website. RSVP&#39\;s are required due to the limited sitting in keeping with the COVID 19 recommendations.
LOCATION:Church 1:37 14050 Park Drive Tomball\, TX 77377
UID:e.155.33474
SEQUENCE:3
DTSTAMP:20260424T105450Z
URL:http://tomballchamber-gzcms.preview.gochambermaster.com/events/details/christian-business-luncheon-09-08-2020-33474
END:VEVENT

END:VCALENDAR
