BEGIN:VCALENDAR
VERSION:2.0
PRODID:-//ChamberMaster//Event Calendar 2.0//EN
METHOD:PUBLISH
X-PUBLISHED-TTL:P3D
REFRESH-INTERVAL:P3D
CALSCALE:GREGORIAN
BEGIN:VEVENT
DTSTART:20230912T163000Z
DTEND:20230912T180000Z
X-MICROSOFT-CDO-ALLDAYEVENT:FALSE
SUMMARY:Christian Business Luncheon
DESCRIPTION:Guest Speaker is Christin Morse\, owner of Manna - Bread From Heaven bakery in Tomball.
X-ALT-DESC;FMTTYPE=text/html:Guest Speaker is Christin Morse\, owner of Manna - Bread From Heaven bakery in Tomball.
LOCATION:Lone Star College - Tomball Beckendorf Conference Center 30555 Tomball Parkway Tomball\, TX 77375
UID:e.155.38058
SEQUENCE:3
DTSTAMP:20260419T195023Z
URL:http://tomballchamber-gzcms.preview.gochambermaster.com/events/details/christian-business-luncheon-09-12-2023-38058
END:VEVENT

END:VCALENDAR
