BEGIN:VCALENDAR
VERSION:2.0
PRODID:-//ChamberMaster//Event Calendar 2.0//EN
METHOD:PUBLISH
X-PUBLISHED-TTL:P3D
REFRESH-INTERVAL:P3D
CALSCALE:GREGORIAN
BEGIN:VEVENT
DTSTART:20221011T163000Z
DTEND:20221011T180000Z
X-MICROSOFT-CDO-ALLDAYEVENT:FALSE
SUMMARY:Christian Business Luncheon
DESCRIPTION:Annual Pastor Appreciation Luncheon. Guest speaker is Dr. Michael J Mantel\, President and CEO of Living Water International. Authored book "Thirsty for Living Water".
X-ALT-DESC;FMTTYPE=text/html:Annual Pastor Appreciation Luncheon. Guest speaker is Dr. Michael J Mantel\, President and CEO of Living Water International. Authored book &quot\;Thirsty for Living Water&quot\;.
LOCATION:Lone Star College - Tomball Beckendorf Conference Center 30555 Tomball Pkwy Tomball\, TX 77375
UID:e.155.37302
SEQUENCE:3
DTSTAMP:20260420T212131Z
URL:http://tomballchamber-gzcms.preview.gochambermaster.com/events/details/christian-business-luncheon-10-11-2022-37302
END:VEVENT

END:VCALENDAR
