BEGIN:VCALENDAR
VERSION:2.0
PRODID:-//ChamberMaster//Event Calendar 2.0//EN
METHOD:PUBLISH
X-PUBLISHED-TTL:P3D
REFRESH-INTERVAL:P3D
CALSCALE:GREGORIAN
BEGIN:VEVENT
DTSTART:20221124T170000Z
DTEND:20221124T193000Z
X-MICROSOFT-CDO-ALLDAYEVENT:FALSE
SUMMARY:Community Thanksgiving Feast: Kinsmen Lutheran Church
DESCRIPTION:Kinsmen Lutheran Church will host their 13th annual Community Thanksgiving Feast and "Run for Your Turkey" on Thanksgiving Day\, November 24\, 2022.   Both events return to in-person this year\, with a delicious meal of turkey\, dressing\, mashed potatoes\, gravy\, green bean casserole\, cranberries\, rolls and pie. The Thanksgiving Feast is free of charge and will be served at Kinsmen from 11 a.m. to 1:30 p.m. on Thanksgiving Day. Reservations are not needed and the event is open to the entire community. For those who prefer\, meals may also be taken home to enjoy.   In preparation for the holiday\, a bilingual Thanksgiving Eve worship service will be held at 7 p.m. on Wednesday\, November 23. Located at 12100 Champion Forest Drive in Houston\, Kinsmen Lutheran Church is "In the Community for Good\," a congregation that strives to be rooted in faith and relevant to life.   For more information\, please visit www.KinsmenLutheran.org or call (281) 444-3126.
X-ALT-DESC;FMTTYPE=text/html:Kinsmen Lutheran Church will host their 13th annual Community Thanksgiving Feast and &ldquo\;Run for Your Turkey&rdquo\; on Thanksgiving Day\, November 24\, 2022. &nbsp\; Both events return to in-person this year\, with a delicious meal of turkey\, dressing\, mashed potatoes\, gravy\, green bean casserole\, cranberries\, rolls and pie. The Thanksgiving Feast is free of charge and will be served at Kinsmen from 11 a.m. to 1:30 p.m. on Thanksgiving Day. Reservations are not needed and the event is open to the entire community. For those who prefer\, meals may also be taken home to enjoy. &nbsp\; In preparation for the holiday\, a bilingual Thanksgiving Eve worship service will be held at 7 p.m. on Wednesday\, November 23. Located at 12100 Champion Forest Drive in Houston\, Kinsmen Lutheran Church is &ldquo\;In the Community&hellip\;for Good\,&rdquo\; a congregation that strives to be rooted in faith and relevant to life. &nbsp\; For more information\, please visit www.KinsmenLutheran.org or call (281) 444-3126.
LOCATION:Kinsmen Lutheran Church 12100 Champion Forest Drive Houston\, TX 77066
UID:e.155.37380
SEQUENCE:3
DTSTAMP:20260420T164615Z
URL:http://tomballchamber-gzcms.preview.gochambermaster.com/events/details/community-thanksgiving-feast-kinsmen-lutheran-church-37380
END:VEVENT

END:VCALENDAR
