BEGIN:VCALENDAR
VERSION:2.0
PRODID:-//ChamberMaster//Event Calendar 2.0//EN
METHOD:PUBLISH
X-PUBLISHED-TTL:P3D
REFRESH-INTERVAL:P3D
CALSCALE:GREGORIAN
BEGIN:VEVENT
DTSTART:20220813T220000Z
DTEND:20220814T010000Z
X-MICROSOFT-CDO-ALLDAYEVENT:FALSE
SUMMARY:DaVinci Artists Gallery Fresh Art Open House
DESCRIPTION:?Join us on the second Saturday every month for our Fresh Art Open House as the gallery artists come together to exhibit their latest art and mix and mingle with potential buyers. The gallery represents artists that work in variety of mediums including acrylics\, ceramics\, furniture\, glass art\, jewelry\, mixed medium\, oils\, pastel\, photography\, pottery\, stained glass\, watercolors and wood vessels. Each month the gallery layout is reconfigured\, revamped and rehung to set the stage for Fresh Art. Customers are welcome to wander in\, sample an appetizer\, sip a glass of complimentary wine and chat with the talented local artists. Located in historic downtown Tomball\, Texas\, the gallery offers a beautiful and unique atmosphere in which to find your next work of art!
X-ALT-DESC;FMTTYPE=text/html:?Join us on the second Saturday every month for our Fresh Art Open House as the gallery artists come together to exhibit their latest art and mix and mingle with potential buyers. The gallery represents artists that work in variety of mediums including acrylics\, ceramics\, furniture\, glass art\, jewelry\, mixed medium\, oils\, pastel\, photography\, pottery\, stained glass\, watercolors and wood vessels. Each month the gallery layout is reconfigured\, revamped and rehung to set the stage for Fresh Art. Customers are welcome to wander in\, sample an appetizer\, sip a glass of complimentary wine and chat with the talented local artists. Located in historic downtown Tomball\, Texas\, the gallery offers a beautiful and unique atmosphere in which to find your next work of art!
LOCATION:DaVinci Artists Gallery
UID:e.155.36453
SEQUENCE:3
DTSTAMP:20260421T001629Z
URL:http://tomballchamber-gzcms.preview.gochambermaster.com/events/details/davinci-artists-gallery-fresh-art-open-house-36453
END:VEVENT

END:VCALENDAR
