BEGIN:VCALENDAR
VERSION:2.0
PRODID:-//ChamberMaster//Event Calendar 2.0//EN
METHOD:PUBLISH
X-PUBLISHED-TTL:P3D
REFRESH-INTERVAL:P3D
CALSCALE:GREGORIAN
BEGIN:VEVENT
DTSTART:20221203T170000Z
DTEND:20221203T190000Z
X-MICROSOFT-CDO-ALLDAYEVENT:FALSE
SUMMARY:Encaustic Art Workshop - Photo Transfers
DESCRIPTION:In this specialty workshop\, you'll be using your own black and white photos\, colorful tissue paper mixed with melted beeswax to create beautiful\, original works of art! We'll also be doing some incising and tinting the surface using pigment sticks. ALL SUPPLIES INCLUDED! You will leave this workshop with your very own 8"x10" encaustic work of art on wood! *Due to the heated elements in this class\, age is restricted to 14 years of age and older please. Buy tickets on EVENTBRITE: https://tinyurl.com/mvxj4z36
X-ALT-DESC;FMTTYPE=text/html:In this specialty workshop\, you&rsquo\;ll be using your own black and white photos\, colorful tissue paper mixed with melted beeswax to create beautiful\, original works of art! We&rsquo\;ll also be doing some incising and tinting the surface using pigment sticks. ALL SUPPLIES INCLUDED! You will leave this workshop with your very own 8&rdquo\;x10&rdquo\; encaustic work of art on wood! *Due to the heated elements in this class\, age is restricted to 14 years of age and older please. Buy tickets on EVENTBRITE: https://tinyurl.com/mvxj4z36
LOCATION:Hampton Inn & Suites Tomball Houston NW 14100 Medical Complex DR\, Tomball\, TX 77377
UID:e.155.37338
SEQUENCE:3
DTSTAMP:20260420T163302Z
URL:http://tomballchamber-gzcms.preview.gochambermaster.com/events/details/encaustic-art-workshop-photo-transfers-37338
END:VEVENT

END:VCALENDAR
