BEGIN:VCALENDAR
VERSION:2.0
PRODID:-//ChamberMaster//Event Calendar 2.0//EN
METHOD:PUBLISH
X-PUBLISHED-TTL:P3D
REFRESH-INTERVAL:P3D
CALSCALE:GREGORIAN
BEGIN:VEVENT
DTSTART:20191031T230000Z
DTEND:20191101T010000Z
X-MICROSOFT-CDO-ALLDAYEVENT:FALSE
SUMMARY:Family & Friends Fall Fest
DESCRIPTION:OCTOBER FALL FEST AT HARVEST HOME & INWOOD CROSSING! COME ENJOY\, PUMPKIN PATCH GAMES\, TRICK OR TREAT AND PHOTO OPPORTUNITIEs
X-ALT-DESC;FMTTYPE=text/html:OCTOBER FALL FEST AT HARVEST HOME &amp\; INWOOD CROSSING! COME ENJOY\, PUMPKIN PATCH GAMES\, TRICK OR TREAT AND PHOTO OPPORTUNITIEs
LOCATION:Harvest Home & Inwood Crossing 520 Baker Dr. Tomball\, Tx. 77357
UID:e.155.31982
SEQUENCE:3
DTSTAMP:20260425T173447Z
URL:http://tomballchamber-gzcms.preview.gochambermaster.com/events/details/family-friends-fall-fest-31982
END:VEVENT

END:VCALENDAR
