BEGIN:VCALENDAR
VERSION:2.0
PRODID:-//ChamberMaster//Event Calendar 2.0//EN
METHOD:PUBLISH
X-PUBLISHED-TTL:P3D
REFRESH-INTERVAL:P3D
CALSCALE:GREGORIAN
BEGIN:VEVENT
DTSTART:20230707T163000Z
DTEND:20230707T180000Z
X-MICROSOFT-CDO-ALLDAYEVENT:FALSE
SUMMARY:First Friday Luncheon
DESCRIPTION:First Friday Luncheon\n\nSpeaker from the Houston Airport System\n\nCovering: The economic impact of BUSH- IAH and Stats\n\nPlans for ongoing improvements on the BUSH-IAH grounds\n\nImportance of Hooks Airport in Spring\n\n\n\nPublic Safety Officer of the Month\n\nChamber and Community Updates
X-ALT-DESC;FMTTYPE=text/html:First Friday Luncheon<br />\nSpeaker from the Houston Airport System<br />\nCovering: The economic impact of BUSH- IAH and Stats<br />\nPlans for ongoing improvements on the BUSH-IAH grounds<br />\nImportance of Hooks Airport in Spring<br />\n<br />\nPublic Safety Officer of the Month<br />\nChamber and Community Updates
LOCATION:Klein Multipurpose Center 7500 Farm to Market 2920 Klein\, TX 77379
UID:e.155.37401
SEQUENCE:3
DTSTAMP:20260420T010511Z
URL:http://tomballchamber-gzcms.preview.gochambermaster.com/events/details/first-friday-luncheon-07-07-2023-37401
END:VEVENT

END:VCALENDAR
