BEGIN:VCALENDAR
VERSION:2.0
PRODID:-//ChamberMaster//Event Calendar 2.0//EN
METHOD:PUBLISH
X-PUBLISHED-TTL:P3D
REFRESH-INTERVAL:P3D
CALSCALE:GREGORIAN
BEGIN:VEVENT
DTSTART:20220902T163000Z
DTEND:20220902T180000Z
X-MICROSOFT-CDO-ALLDAYEVENT:FALSE
SUMMARY:First Friday Luncheon
DESCRIPTION:First Friday Luncheon back at Lone Star College - Tomball\; Beckendorf Conference Center. \n\nState of Health Luncheon - Guest Speakers:\n\nKeith Barber\, CEO - Houston Methodist Willowbrook Hospital\n\nMario Garner\, President - St. Luke's The Vintage Hospital\n\nRobert Marmerstein\, CEO - HCA Houston Healthcare - Tomball\n\nJustin Kendrick\, SVP and CEO - Memorial Hermann The Woodlands\n\n\n\nWe will also recognize our Public Safety Officer and Teacher of the Month. \n\nBring yourself\, your smile\, and plenty of business cards!
X-ALT-DESC;FMTTYPE=text/html:First Friday Luncheon back at Lone Star College - Tomball\; Beckendorf Conference Center.&nbsp\;<br />\nState of Health Luncheon - Guest Speakers:<br />\nKeith Barber\, CEO - Houston Methodist Willowbrook Hospital<br />\nMario Garner\, President - St. Luke&#39\;s The Vintage Hospital<br />\nRobert Marmerstein\, CEO - HCA Houston Healthcare - Tomball<br />\nJustin Kendrick\, SVP and CEO - Memorial Hermann The Woodlands<br />\n<br />\nWe will also recognize our Public Safety Officer and Teacher of the Month.&nbsp\;<br />\nBring yourself\, your smile\, and plenty of business cards!
LOCATION:Lone Star College - Tomball Beckendorf Conference Center 30555 Tomball Parkway Tomball\, TX 77375
UID:e.155.36447
SEQUENCE:3
DTSTAMP:20260420T211630Z
URL:http://tomballchamber-gzcms.preview.gochambermaster.com/events/details/first-friday-luncheon-36447
END:VEVENT

END:VCALENDAR
