BEGIN:VCALENDAR
VERSION:2.0
PRODID:-//ChamberMaster//Event Calendar 2.0//EN
METHOD:PUBLISH
X-PUBLISHED-TTL:P3D
REFRESH-INTERVAL:P3D
CALSCALE:GREGORIAN
BEGIN:VEVENT
DTSTART:20230629T160000Z
DTEND:20230629T190000Z
X-MICROSOFT-CDO-ALLDAYEVENT:FALSE
SUMMARY:Food Pantry
DESCRIPTION:Small church would like to help the local area. We have a small food bank open on the last Thur. of every month. Everyone welcome.
X-ALT-DESC;FMTTYPE=text/html:Small church would like to help the local area. We have a small food bank open on the last Thur. of every month. Everyone welcome.
LOCATION:200 S. Pine St Tomball\, TX
UID:e.155.37982
SEQUENCE:3
DTSTAMP:20260420T043348Z
URL:http://tomballchamber-gzcms.preview.gochambermaster.com/events/details/food-pantry-06-29-2023-37982
END:VEVENT

END:VCALENDAR
