BEGIN:VCALENDAR
VERSION:2.0
PRODID:-//ChamberMaster//Event Calendar 2.0//EN
METHOD:PUBLISH
X-PUBLISHED-TTL:P3D
REFRESH-INTERVAL:P3D
CALSCALE:GREGORIAN
BEGIN:VEVENT
DTSTART:20190504T000000Z
DTEND:20190504T013000Z
X-MICROSOFT-CDO-ALLDAYEVENT:FALSE
SUMMARY:Free Comedy Night with Elijah Tindall
DESCRIPTION:Join us for a Free Night of Comedy with Elijah Tindall. You may have seen him on Comedy Central or TLC and we are excited to be hosting him in Tomball\, TX.\n\n\n\nMay 3 at 7pm\n\nJoan Hunter Ministries\n\n4 Corners Conference Center\n\n\n\nIt's open seating\, free entrance and family friendly fun! Elijah is quick witted and clever in addition to be an excellent story teller. The whole family will have fun. Childcare available for ages 2-8 yrs old.\n\nDoors open 1 hour before Comedy Show begins.
X-ALT-DESC;FMTTYPE=text/html:Join us for a Free Night of Comedy with Elijah Tindall. You may have seen him on Comedy Central or TLC and we are excited to be hosting him in Tomball\, TX.<br />\n<br />\nMay 3 at 7pm<br />\nJoan Hunter Ministries<br />\n4 Corners Conference Center<br />\n<br />\nIt&#39\;s open seating\, free entrance and family friendly fun! Elijah is quick witted and clever in addition to be an excellent story teller. The whole family will have fun. Childcare available for ages 2-8 yrs old.<br />\nDoors open 1 hour before Comedy Show begins.
LOCATION:Joan Hunter Ministries 4 Corners Conference Center 130 Agg Rd Tomball\, TX 77375 281-789-7500
UID:e.155.31105
SEQUENCE:3
DTSTAMP:20260426T014059Z
URL:http://tomballchamber-gzcms.preview.gochambermaster.com/events/details/free-comedy-night-with-elijah-tindall-31105
END:VEVENT

END:VCALENDAR
