BEGIN:VCALENDAR
VERSION:2.0
PRODID:-//ChamberMaster//Event Calendar 2.0//EN
METHOD:PUBLISH
X-PUBLISHED-TTL:P3D
REFRESH-INTERVAL:P3D
CALSCALE:GREGORIAN
BEGIN:VEVENT
DTSTART:20210311T170000Z
DTEND:20210311T173000Z
X-MICROSOFT-CDO-ALLDAYEVENT:FALSE
SUMMARY:FREE Webinar - Veterans Aid and Attendance Pension Benefit Made Simple
DESCRIPTION:Do you know a veteran who is receiving or requires long-term care\, assisted living\, or in-home care\, and would benefit from additional funding.  Learn just how simple the qualification and submission process can be through this FREE webinar sponsored by Oasis Senior Advisors and AidandAttendance.com.
X-ALT-DESC;FMTTYPE=text/html:<span style="font-size:18px">Do you know a veteran who is receiving or requires long-term care\, assisted living\, or in-home care\, and would benefit from additional funding.&nbsp\; Learn just how simple the qualification and submission process can be through this FREE webinar sponsored by Oasis Senior Advisors and AidandAttendance.com.</span><br />\n<br />\n&nbsp\;
LOCATION:
UID:e.155.34506
SEQUENCE:3
DTSTAMP:20260423T210519Z
URL:http://tomballchamber-gzcms.preview.gochambermaster.com/events/details/free-webinar-veterans-aid-and-attendance-pension-benefit-made-simple-34506
END:VEVENT

END:VCALENDAR
