BEGIN:VCALENDAR
VERSION:2.0
PRODID:-//ChamberMaster//Event Calendar 2.0//EN
METHOD:PUBLISH
X-PUBLISHED-TTL:P3D
REFRESH-INTERVAL:P3D
CALSCALE:GREGORIAN
BEGIN:VEVENT
DTSTART:20221029T150000Z
DTEND:20221029T200000Z
X-MICROSOFT-CDO-ALLDAYEVENT:FALSE
SUMMARY:Grand Opening-Woodsy Homelife
DESCRIPTION:Woodsy Homelife is having their Grand Opening at 23233 Snook Lane\, Tomball. from 10-3pm. Come see where we pour our candles\, check out our shop and enjoy celebrating with us! We will have refreshments\, treats and Give-aways!
X-ALT-DESC;FMTTYPE=text/html:Woodsy Homelife is having their Grand Opening at 23233 Snook Lane\, Tomball. from 10-3pm. Come see where we pour our candles\, check out our shop and enjoy celebrating with us! We will have refreshments\, treats and Give-aways!
LOCATION:23233 Snook Lane\, Tomball
UID:e.155.37341
SEQUENCE:3
DTSTAMP:20260420T212243Z
URL:http://tomballchamber-gzcms.preview.gochambermaster.com/events/details/grand-opening-woodsy-homelife-37341
END:VEVENT

END:VCALENDAR
