BEGIN:VCALENDAR
VERSION:2.0
PRODID:-//ChamberMaster//Event Calendar 2.0//EN
METHOD:PUBLISH
X-PUBLISHED-TTL:P3D
REFRESH-INTERVAL:P3D
CALSCALE:GREGORIAN
BEGIN:VEVENT
DTSTART:20220411T160000Z
DTEND:20220411T170000Z
X-MICROSOFT-CDO-ALLDAYEVENT:FALSE
SUMMARY:Groundbreaking - Pain Train Salsa Company
DESCRIPTION:Join us for a groundbreaking ceremony. Pain Train Salsa is expanding! \n\nWe hope to see you out there!
X-ALT-DESC;FMTTYPE=text/html:Join us for a groundbreaking ceremony. Pain Train Salsa is expanding!&nbsp\;<br />\nWe hope to see you out there!
LOCATION:104 South Oak Tomball\, TX 77375
UID:e.155.35686
SEQUENCE:3
DTSTAMP:20260422T011440Z
URL:http://tomballchamber-gzcms.preview.gochambermaster.com/events/details/groundbreaking-pain-train-salsa-company-35686
END:VEVENT

END:VCALENDAR
