BEGIN:VCALENDAR
VERSION:2.0
PRODID:-//ChamberMaster//Event Calendar 2.0//EN
METHOD:PUBLISH
X-PUBLISHED-TTL:P3D
REFRESH-INTERVAL:P3D
CALSCALE:GREGORIAN
BEGIN:VEVENT
DTSTART:20210330T190000Z
DTEND:20210330T200000Z
X-MICROSOFT-CDO-ALLDAYEVENT:FALSE
SUMMARY:Grow with Google: Reach Customers Online with Google
DESCRIPTION:Join us as Google trainer\, Maria Elena Duron\, demonstrates how your business can be found online with Google. This workshop explains how Google Search works and how you can improve a website's visibility with Search Engine Optimization (SEO). The session also introduces products like Google My Business\, Google Trends\, Search Console\, Google Analytics\, Google Ads\, and more. In this workshop we'll discuss best practices for: Improving your website's visibility in Google's organic search results\, on all devices Creating a free Google My Business listing Advertising your business on Google Registration is required. Register at https://attendee.gotowebinar.com/register/1293525265271252235 March 30 @ 2 pm
X-ALT-DESC;FMTTYPE=text/html:Join us as Google trainer\, Maria Elena Duron\, demonstrates how your business can be found online with Google. This workshop explains how Google Search works and how you can improve a website&#39\;s visibility with Search Engine Optimization (SEO). The session also introduces products like Google My Business\, Google Trends\, Search Console\, Google Analytics\, Google Ads\, and more. In this workshop we&rsquo\;ll discuss best practices for: Improving your website&rsquo\;s visibility in Google&rsquo\;s organic search results\, on all devices Creating a free Google My Business listing Advertising your business on Google Registration is required. Register at https://attendee.gotowebinar.com/register/1293525265271252235 March 30 @ 2 pm
LOCATION:Online hosted by LSC-Tomball Community Library
UID:e.155.34517
SEQUENCE:3
DTSTAMP:20260423T210441Z
URL:http://tomballchamber-gzcms.preview.gochambermaster.com/events/details/grow-with-google-reach-customers-online-with-google-34517
END:VEVENT

END:VCALENDAR
