BEGIN:VCALENDAR
VERSION:2.0
PRODID:-//ChamberMaster//Event Calendar 2.0//EN
METHOD:PUBLISH
X-PUBLISHED-TTL:P3D
REFRESH-INTERVAL:P3D
CALSCALE:GREGORIAN
BEGIN:VEVENT
DTSTART:20200225T170000Z
DTEND:20200225T190000Z
X-MICROSOFT-CDO-ALLDAYEVENT:FALSE
SUMMARY:GTACC Health Wellness Alliance Quarterly Luncheon
DESCRIPTION:FREE COMMUNITY EVENT!\n\nTomball Regional Health Foundation is proud to sponsor the GTACC Health & Wellness Alliance Quarterly Luncheon. There will be expert panelists present to speak on the topic: "Top Ten Head To Toe" and they will discuss the top ten tips from their areas of expertise regarding your health. Our panelist includes:\nPanelists:\n\nDr. Mark Copas\, DDS.\; Family Dentist\n\nAnam Khan\, M.D.\, Gastroenterology\; MD Anderson Cancer Center\n\nAmy S\, Walsh\, DPM\; Louetta Foot and Ankle Specialists\, P.A.\nVarious businesses will be on site to visit with prior to and following the luncheon. \n\nLunch is Catered By The Original Rib Tickler\n\nFree Luncheon Registration: https://tomballchamber.chambermaster.com/eventregistration/register/32153\n\n\n\nIf you would like your business to be a vendor for this event\, please click on the Register Here button above and complete\, or call the Chamber at 281.351.7222. The cost is $50 to be a vendor. \n\n\n\n -
X-ALT-DESC;FMTTYPE=text/html:<strong>FREE COMMUNITY EVENT!</strong><br />\nTomball Regional Health Foundation is proud to sponsor the GTACC Health &amp\; Wellness Alliance Quarterly Luncheon. There will be expert panelists present to speak on the topic: &quot\;Top Ten Head To Toe&quot\; and they will discuss the top ten tips from their areas of expertise regarding your health. Our panelist includes:\n<p class="_04xlpA direction-ltr align-center para-style-body" style="color: rgb(2\, 17\, 50)\; line-height: 1.4\; font-family:\;" yacgeskubmw=""><em>Panelists:<br />\nDr. Mark Copas\, DDS.\;</em><em class="white-space-prewrap">&nbsp\;</em>Family Dentist<br />\n<em>Anam Khan\, M.D.\, Gastroenterology\;&nbsp\;</em>MD Anderson Cancer Center<br />\n<em>Amy S\, Walsh\, DPM\;&nbsp\;</em>Louetta Foot and Ankle Specialists\, P.A.</p>\nVarious businesses will be on site to visit with prior to and following the luncheon.&nbsp\;<br />\nLunch is Catered By The Original Rib Tickler<br />\nFree Luncheon Registration: <a href="https://tomballchamber.chambermaster.com/eventregistration/register/32153">https://tomballchamber.chambermaster.com/eventregistration/register/32153</a><br />\n<br />\nIf you would like your business to be a vendor for this event\, please click on the Register Here button above and complete\, or call the Chamber at 281.351.7222. The cost is $50 to be a vendor.&nbsp\;<br />\n<br />\n<font color="#ffffff" face="symbol"><span style="font-size: 13.33px\;">&nbsp\;-&nbsp\;</span></font>
LOCATION:Lone Star College - Tomball Beckendorf Conference Center 30555 Tomball Parkway Tomball\, TX 77375
UID:e.155.32153
SEQUENCE:3
DTSTAMP:20260425T035300Z
URL:http://tomballchamber-gzcms.preview.gochambermaster.com/events/details/gtacc-health-wellness-alliance-quarterly-luncheon-32153
END:VEVENT

END:VCALENDAR
