BEGIN:VCALENDAR
VERSION:2.0
PRODID:-//ChamberMaster//Event Calendar 2.0//EN
METHOD:PUBLISH
X-PUBLISHED-TTL:P3D
REFRESH-INTERVAL:P3D
CALSCALE:GREGORIAN
BEGIN:VEVENT
DTSTART:20230427T123000Z
DTEND:20230427T140000Z
X-MICROSOFT-CDO-ALLDAYEVENT:FALSE
SUMMARY:GTACC Networking Breakfast
DESCRIPTION:We see it every month - connections being made and business getting done!\n\nDon't miss out on getting to know others and making sure they know you. \n\n\n\nBring plenty of business cards to our networking breakfast and have your pitch ready - because we are ready for you!\n\n\n\nNo RSVP or Registration Required
X-ALT-DESC;FMTTYPE=text/html:We see it every month - connections being made and business getting done!<br />\nDon&#39\;t miss out on getting to know others and making sure they know you.&nbsp\;<br />\n<br />\nBring plenty of business cards to our networking breakfast and have your pitch ready - because we are ready for you!<br />\n<br />\nNo RSVP or Registration Required
LOCATION:Church 1:37 14050 Park Dr. Tomball\, TX 77377
UID:e.155.37941
SEQUENCE:3
DTSTAMP:20260420T075029Z
URL:http://tomballchamber-gzcms.preview.gochambermaster.com/events/details/gtacc-networking-breakfast-37941
END:VEVENT

END:VCALENDAR
