BEGIN:VCALENDAR
VERSION:2.0
PRODID:-//ChamberMaster//Event Calendar 2.0//EN
METHOD:PUBLISH
X-PUBLISHED-TTL:P3D
REFRESH-INTERVAL:P3D
CALSCALE:GREGORIAN
BEGIN:VEVENT
DTSTART:20230824T123000Z
DTEND:20230824T140000Z
X-MICROSOFT-CDO-ALLDAYEVENT:FALSE
SUMMARY:GTACC Networking Breakfast
DESCRIPTION:Join us at Thistle Draftshop for our monthly networking breakfast.
X-ALT-DESC;FMTTYPE=text/html:Join us at Thistle Draftshop for our monthly networking breakfast.&nbsp\;
LOCATION:Thistle Draftshop 5210 FM 2920 Ste. 100 Spring\, TX 77388
UID:e.155.38037
SEQUENCE:3
DTSTAMP:20260419T231745Z
URL:http://tomballchamber-gzcms.preview.gochambermaster.com/events/details/gtacc-networking-breakfast-38037
END:VEVENT

END:VCALENDAR
