BEGIN:VCALENDAR
VERSION:2.0
PRODID:-//ChamberMaster//Event Calendar 2.0//EN
METHOD:PUBLISH
X-PUBLISHED-TTL:P3D
REFRESH-INTERVAL:P3D
CALSCALE:GREGORIAN
BEGIN:VEVENT
DTSTART:20231026T123000Z
DTEND:20231026T140000Z
X-MICROSOFT-CDO-ALLDAYEVENT:FALSE
SUMMARY:GTACC Networking Breakfast
DESCRIPTION:Join us for breakfast and networking at Rudy's!\n\nBring plenty of business cards and be ready to tell everyone about your business!\n\n\n\nDoors open at 7:30 am for check in. \n\nProgram begins at 8:00 am\n\n\n\nMembers: $10\n\nNon-Members: $15\n\nCash\, Credit\, Checks Accepted\n\n\n\nNO REGISTRATION OR RSVP REQUIRED
X-ALT-DESC;FMTTYPE=text/html:Join us for breakfast and networking at Rudy&#39\;s!<br />\nBring plenty of business cards and be ready to tell everyone about your business!<br />\n<br />\nDoors open at 7:30 am for check in.&nbsp\;<br />\nProgram begins at 8:00 am<br />\n<br />\nMembers: $10<br />\nNon-Members: $15<br />\nCash\, Credit\, Checks Accepted<br />\n<br />\nNO REGISTRATION OR RSVP REQUIRED
LOCATION:Rudy's BBQ 24503 Tomball Parkway Tomball\, TX 77375
UID:e.155.38251
SEQUENCE:3
DTSTAMP:20260419T194319Z
URL:http://tomballchamber-gzcms.preview.gochambermaster.com/events/details/gtacc-networking-breakfast-38251
END:VEVENT

END:VCALENDAR
