BEGIN:VCALENDAR
VERSION:2.0
PRODID:-//ChamberMaster//Event Calendar 2.0//EN
METHOD:PUBLISH
X-PUBLISHED-TTL:P3D
REFRESH-INTERVAL:P3D
CALSCALE:GREGORIAN
BEGIN:VEVENT
DTSTART:20210114T180000Z
DTEND:20210114T190000Z
X-MICROSOFT-CDO-ALLDAYEVENT:FALSE
SUMMARY:GTACC Young Professionals
DESCRIPTION:Join us as we welcome our 2021 Chairman of the Board\, Dr. Jerrel Wade with Lone Star College - Tomball. \n\nWe will discuss 2021\, as well as how LSC - Tomball has ran the college through this pandemic. \n\n\n\nSend your Young Professionals to learn and network!
X-ALT-DESC;FMTTYPE=text/html:Join us as we welcome our 2021 Chairman of the Board\, Dr. Jerrel Wade with Lone Star College - Tomball.&nbsp\;<br />\nWe will discuss 2021\, as well as how LSC - Tomball has ran the college through this pandemic.&nbsp\;<br />\n<br />\nSend your Young Professionals to learn and network!
LOCATION:Via Zoom Join Zoom Meeting https://us02web.zoom.us/j/87005117869?pwd=QUJtcmovOVBxenZlNTBYMDRsK2NOdz09 Meeting ID: 870 0511 7869 Passcode: 188885
UID:e.155.34476
SEQUENCE:3
DTSTAMP:20260424T021259Z
URL:http://tomballchamber-gzcms.preview.gochambermaster.com/events/details/gtacc-young-professionals-34476
END:VEVENT

END:VCALENDAR
