BEGIN:VCALENDAR
VERSION:2.0
PRODID:-//ChamberMaster//Event Calendar 2.0//EN
METHOD:PUBLISH
X-PUBLISHED-TTL:P3D
REFRESH-INTERVAL:P3D
CALSCALE:GREGORIAN
BEGIN:VEVENT
DTSTART:20201031T190000Z
DTEND:20201031T210000Z
X-MICROSOFT-CDO-ALLDAYEVENT:FALSE
SUMMARY:Harvest Home & Inwood Crossing Trunk or Treat
DESCRIPTION:Enjoy a socially distanced Halloween with us! Harvest Home & Inwood Crossing\, located at 520 Baker Drive\, Tomball\, will have a TRUNK OR TREAT event. Please join us from 2pm-4pm Saturday\, October 31st. Costumes encouraged\, masks required. We will have decorated trunks of wrapped goodies\, a photo opportunity with our scarecrows\, and a fall gift basket raffle.
X-ALT-DESC;FMTTYPE=text/html:Enjoy a socially distanced Halloween with us! Harvest Home &amp\; Inwood Crossing\, located at 520 Baker Drive\, Tomball\, will have a TRUNK OR TREAT event. Please join us from 2pm-4pm Saturday\, October 31st. Costumes encouraged\, masks required. We will have decorated trunks of wrapped goodies\, a photo opportunity with our scarecrows\, and a fall gift basket raffle.
LOCATION:Harvest Home & Inwood Crossing 520 Baker Drive Tomball\, TX 77375
UID:e.155.34107
SEQUENCE:3
DTSTAMP:20260424T063147Z
URL:http://tomballchamber-gzcms.preview.gochambermaster.com/events/details/harvest-home-inwood-crossing-trunk-or-treat-34107
END:VEVENT

END:VCALENDAR
