BEGIN:VCALENDAR
VERSION:2.0
PRODID:-//ChamberMaster//Event Calendar 2.0//EN
METHOD:PUBLISH
X-PUBLISHED-TTL:P3D
REFRESH-INTERVAL:P3D
CALSCALE:GREGORIAN
BEGIN:VEVENT
DTSTART:20230627T160000Z
DTEND:20230627T180000Z
X-MICROSOFT-CDO-ALLDAYEVENT:FALSE
SUMMARY:Health & Wellness Alliance Quarterly Luncheon
DESCRIPTION:Helping Caregivers stay one step ahead of some of the most common health challenges:\n\n\n	Hearing & Balance\n	Signs & Symptoms of Cardiovascular Disease\n	Dementia / Sundowners\n\n\n \n\nSpeakers:\n\nScott A. Marquardt\, AuD\,CCC-A\, FAAA\n\nDoctor of Audiology\n\nClarity Hearing Aid Center LLC\n\nMarquardt Audiology & Hearing Aids PLLC\n\n\n\nDr. Taher Mandviwala\, Interventional Cardiologist\n\nInternal Medicine & Cardiovascular Disease\n\nHCA Houston Healthcare Tomball\n\n \n\nDr. Lacey Brooks\, CCC-A\, FAAA\n\nDoctor of Audiology\n\nNorth Houston Hearing Solutions\n\n \n\n\n\nFREE EVENT!\n\nVisit with vendors prior to and following speaker. \n\nLunch provided by The Original Rib Tickler\n\n\n\nWant to be a vendor/table sponsor? \n\n$50 - Table space for your business display!
X-ALT-DESC;FMTTYPE=text/html:<p>Helping Caregivers stay one step ahead of some of the most common health challenges:</p>\n\n<ul>\n	<li>Hearing &amp\; Balance</li>\n	<li>Signs &amp\; Symptoms of Cardiovascular Disease</li>\n	<li>Dementia / Sundowners</li>\n</ul>\n\n<p>&nbsp\;<br />\nSpeakers:<br />\nScott A. Marquardt\, AuD\,CCC-A\, FAAA<br />\nDoctor of Audiology<br />\nClarity Hearing Aid Center LLC<br />\nMarquardt Audiology &amp\; Hearing Aids PLLC<br />\n<br />\nDr. Taher Mandviwala\, Interventional Cardiologist<br />\nInternal Medicine &amp\; Cardiovascular Disease<br />\nHCA Houston Healthcare Tomball<br />\n&nbsp\;<br />\nDr. Lacey Brooks\, CCC-A\, FAAA<br />\nDoctor of Audiology<br />\nNorth Houston Hearing Solutions<br />\n&nbsp\;<br />\n<br />\nFREE EVENT!<br />\nVisit with vendors prior to and following speaker.&nbsp\;<br />\nLunch provided by The Original Rib Tickler<br />\n<br />\nWant to be a vendor/table sponsor?&nbsp\;<br />\n$50 - Table space for your business display!</p>\n
LOCATION:Lone Star College - Tomball Beckendorf Conference Center 30555 Tomball Parkway Tomball\, TX 77375
UID:e.155.37972
SEQUENCE:3
DTSTAMP:20260420T024829Z
URL:http://tomballchamber-gzcms.preview.gochambermaster.com/events/details/health-wellness-alliance-quarterly-luncheon-37972
END:VEVENT

END:VCALENDAR
