BEGIN:VCALENDAR
VERSION:2.0
PRODID:-//ChamberMaster//Event Calendar 2.0//EN
METHOD:PUBLISH
X-PUBLISHED-TTL:P3D
REFRESH-INTERVAL:P3D
CALSCALE:GREGORIAN
BEGIN:VEVENT
DTSTART:20230926T160000Z
DTEND:20230926T173000Z
X-MICROSOFT-CDO-ALLDAYEVENT:FALSE
SUMMARY:Health & Wellness Alliance Quarterly Luncheon
DESCRIPTION:FREE COMMUNITY EVENT\n\nConfused about Medicare? Toni can help! Toni King\, author and Medicare advocate\, will be our speaker. This presentation is great for those approaching 65\, or have parents or loved ones that will be or are navigating the Medicare universe. \n\nSo\, be our guest\, enjoy a nutritious lunch\, and be informed!\n\n\n\nVisit with vendors prior to and following speaker. \n\nLunch provided by The Original Rib Tickler\n\n\n\nWant to be a vendor/table sponsor? \n\n$50 - Table space for your business display!\n\n\n\nRegister Online for attendance or for vendor spot
X-ALT-DESC;FMTTYPE=text/html:FREE COMMUNITY EVENT<br />\nConfused about Medicare? Toni can help! Toni King\, author and Medicare advocate\, will be our speaker. This presentation is great for those approaching 65\, or have parents or loved ones that will be or are navigating the Medicare universe.&nbsp\;<br />\nSo\, be our guest\, enjoy a nutritious lunch\, and be informed!<br />\n<br />\nVisit with vendors prior to and following speaker.&nbsp\;<br />\nLunch provided by The Original Rib Tickler<br />\n<br />\nWant to be a vendor/table sponsor?&nbsp\;<br />\n$50 - Table space for your business display!<br />\n<br />\nRegister Online for attendance or for vendor spot
LOCATION:Lone Star College-Tomball\; Beckendorf Conference Center 30555 Tomball Parkway Tomball\, TX 77375
UID:e.155.38044
SEQUENCE:3
DTSTAMP:20260419T213627Z
URL:http://tomballchamber-gzcms.preview.gochambermaster.com/events/details/health-wellness-alliance-quarterly-luncheon-38044
END:VEVENT

END:VCALENDAR
