BEGIN:VCALENDAR
VERSION:2.0
PRODID:-//ChamberMaster//Event Calendar 2.0//EN
METHOD:PUBLISH
X-PUBLISHED-TTL:P3D
REFRESH-INTERVAL:P3D
CALSCALE:GREGORIAN
BEGIN:VEVENT
DTSTART:20220409T223000Z
DTEND:20220417T173000Z
X-MICROSOFT-CDO-ALLDAYEVENT:FALSE
SUMMARY:Holy Week Services at Kinsmen Lutheran Church
DESCRIPTION:Kinsmen Lutheran Church will host the following services during Holy Week. The community is warmly invited to attend! Palm/Passion Weekend Saturday\, April 9 5:30 p.m. - Informal Worship Sunday\, April 10 8:30 a.m. - Traditional Service 11:00 a.m. - Contemporary Service 12:30 p.m. - Misa En Espanol Maundy Thursday Thursday\, April 14 7 p.m. - Worship Good Friday Friday\, April 15 12 Noon - Tenebrae in English 7 p.m. - Bilingual (English/Spanish) Tenebrae Easter Sunday Sunday\, April 17 6:15 a.m. - Traditional Service 7 a.m. to Noon - Easter Breakfast 8 a.m. - Traditional Service with Brass 9:30 a.m. - Outdoor Service 11 a.m. - Contemporary Service 12:30 p.m. - Spanish Language Service Located at 12100 Champion Forest Drive in Houston\, Kinsmen Lutheran Church is "In the Community for Good\," a congregation that strives to be rooted in faith and relevant to life.   For more information\, please visit www.KinsmenLutheran.org or call (281) 444-3126.
X-ALT-DESC;FMTTYPE=text/html:Kinsmen Lutheran Church will host the following services during Holy Week. The community is warmly invited to attend! Palm/Passion Weekend Saturday\, April 9 5:30 p.m. - Informal Worship Sunday\, April 10 8:30 a.m. - Traditional Service 11:00 a.m. - Contemporary Service 12:30 p.m. - Misa En Espanol Maundy Thursday Thursday\, April 14 7 p.m. - Worship Good Friday Friday\, April 15 12 Noon - Tenebrae in English 7 p.m. - Bilingual (English/Spanish) Tenebrae Easter Sunday Sunday\, April 17 6:15 a.m. - Traditional Service 7 a.m. to Noon - Easter Breakfast 8 a.m. - Traditional Service with Brass 9:30 a.m. - Outdoor Service 11 a.m. - Contemporary Service 12:30 p.m. - Spanish Language Service Located at 12100 Champion Forest Drive in Houston\, Kinsmen Lutheran Church is &ldquo\;In the Community&hellip\;for Good\,&rdquo\; a congregation that strives to be rooted in faith and relevant to life. &nbsp\; For more information\, please visit www.KinsmenLutheran.org or call (281) 444-3126.
LOCATION:Kinsmen Lutheran Church 12100 Champion Forest Drive Houston\, TX 77066
UID:e.155.35691
SEQUENCE:3
DTSTAMP:20260422T011405Z
URL:http://tomballchamber-gzcms.preview.gochambermaster.com/events/details/holy-week-services-at-kinsmen-lutheran-church-35691
END:VEVENT

END:VCALENDAR
