BEGIN:VCALENDAR
VERSION:2.0
PRODID:-//ChamberMaster//Event Calendar 2.0//EN
METHOD:PUBLISH
X-PUBLISHED-TTL:P3D
REFRESH-INTERVAL:P3D
CALSCALE:GREGORIAN
BEGIN:VEVENT
DTSTART:20221028T230000Z
DTEND:20221029T030000Z
X-MICROSOFT-CDO-ALLDAYEVENT:FALSE
SUMMARY:Karoke at Martha Mexican
DESCRIPTION:Come one come all. Eat some fantastic food and drink\, sing some songs\, dance.. and meet people. You don't have to sing.. but I bet you will before you know it.
X-ALT-DESC;FMTTYPE=text/html:Come one come all. Eat some fantastic food and drink\, sing some songs\, dance.. and meet people. You don&#39\;t have to sing.. but I bet you will before you know it.
LOCATION:1025 Alma St Tomball\, TX 77375
UID:e.155.37327
SEQUENCE:3
DTSTAMP:20260420T195344Z
URL:http://tomballchamber-gzcms.preview.gochambermaster.com/events/details/karoke-at-martha-mexican-10-28-2022-37327
END:VEVENT

END:VCALENDAR
