BEGIN:VCALENDAR
VERSION:2.0
PRODID:-//ChamberMaster//Event Calendar 2.0//EN
METHOD:PUBLISH
X-PUBLISHED-TTL:P3D
REFRESH-INTERVAL:P3D
CALSCALE:GREGORIAN
BEGIN:VEVENT
DTSTART:20230520T150000Z
DTEND:20230520T170000Z
X-MICROSOFT-CDO-ALLDAYEVENT:FALSE
SUMMARY:MERA Vintage Celebration
DESCRIPTION:Vintage Car Show in Partnership with Houston MG Car Club Join us for a VINTAGE celebration to officially welcome Mera Vintage Park to the neighborhood. Attend our very own car show presented by Houston MG Car Club featuring an assortment of vintage cars on-site!! Participate in our community scavenger hunt\, grab a team to battle it out in our Pickleball Tournament\, and enjoy refreshments\, appetizers and good conversation. Fun raffle prized and exclusive specials for all who attend!
X-ALT-DESC;FMTTYPE=text/html:Vintage Car Show in Partnership with Houston MG Car Club Join us for a VINTAGE celebration to officially welcome Mera Vintage Park to the neighborhood. Attend our very own car show presented by Houston MG Car Club featuring an assortment of vintage cars on-site!! Participate in our community scavenger hunt\, grab a team to battle it out in our Pickleball Tournament\, and enjoy refreshments\, appetizers and good conversation. Fun raffle prized and exclusive specials for all who attend!
LOCATION:Mera Vintage Park 14914 Vintage Preserve Pkwy Houston\, TX 77070
UID:e.155.37969
SEQUENCE:3
DTSTAMP:20260420T075247Z
URL:http://tomballchamber-gzcms.preview.gochambermaster.com/events/details/mera-vintage-celebration-37969
END:VEVENT

END:VCALENDAR
