BEGIN:VCALENDAR
VERSION:2.0
PRODID:-//ChamberMaster//Event Calendar 2.0//EN
METHOD:PUBLISH
X-PUBLISHED-TTL:P3D
REFRESH-INTERVAL:P3D
CALSCALE:GREGORIAN
BEGIN:VEVENT
DTSTART:20231119T010000Z
DTEND:20231119T040000Z
X-MICROSOFT-CDO-ALLDAYEVENT:FALSE
SUMMARY:Miss Tomball 2024
DESCRIPTION:Miss Tomball 2024 presented by Aloha Beauty Lounge is a strong community tradition and we are happy to be  celebrating Tomball's best! We will be crowning our Miss Tomball for next year. Each year is exciting with young ladies from around Tomball demonstrating why our town is a great place live and raise a family.\n\nCome join us as we support them all! Awards will be presented to 2024 Miss Tomball\, First Runner- Up\, Miss Congeniality\, Diane N. Holland Excellence In Leadership Award and Sandy Krug Community Service Award\, all of whom will receive scholarships. \n\n\n\nIn addition to scholarships for Miss Tomball 2024\, First Runner-Up\, and Miss Congeniality\, contestants may also complete the below two applications to win awards that will be announced during the program. \n\nLinks to applications\, along with rules and instructions\, below:\n\n\n\nDIANE N. HOLLAND EXCELLENCE IN LEADERSHIP AWARD\n\nSANDY KRUG COMMUNITY SERVICE AWARD\n\n\n\n\n\nTICKETS AVAILABLE NOW!\n\nTickets are $20 each\n\nYou can purchase your tickets online and choose your seats. \n\nALL SEATS ARE RESERVED SEATING. \n\n\n\nCLICK HERE TO PURCHASE TICKETS\n\n\n\nDON'T WAIT TO PURCHASE TICKETS\, AS THERE IS LIMITED SEATING CAPACITY.
X-ALT-DESC;FMTTYPE=text/html:Miss Tomball 2024 presented by Aloha Beauty Lounge is a strong community tradition and we are happy to be&nbsp\; celebrating Tomball&#39\;s best! We will be crowning our Miss Tomball for next year. Each year is exciting with young ladies from around Tomball demonstrating why our town is a great place live and raise a family.<br />\nCome join us as we support them all! Awards will be presented to 2024 Miss Tomball\, First Runner- Up\, Miss Congeniality\, Diane N. Holland Excellence In Leadership Award and Sandy Krug Community Service Award\, all of whom will receive scholarships.&nbsp\;<br />\n<br />\nIn addition to scholarships for Miss Tomball 2024\, First Runner-Up\, and Miss Congeniality\, contestants may also complete the below two applications to win awards that will be announced during the program.&nbsp\;<br />\nLinks to applications\, along with rules and instructions\, below:<br />\n<br />\n<strong><a href="https://chambermaster.blob.core.windows.net/userfiles/UserFiles/chambers/155/File/2024MissTomballExcellenceInLeadershipAward.pdf">DIANE N. HOLLAND EXCELLENCE IN LEADERSHIP AWARD</a><br />\n<a href="https://chambermaster.blob.core.windows.net/userfiles/UserFiles/chambers/155/File/2024MissTomballCommunityServiceAward.pdf">SANDY KRUG COMMUNITY SERVICE AWARD</a></strong><br />\n<br />\n<br />\n<span style="color:#FF0000\;"><strong><span style="font-size:16px\;">TICKETS AVAILABLE NOW!</span><br />\nTickets are $20 each<br />\nYou can purchase your tickets online and choose your seats.&nbsp\;<br />\nALL SEATS ARE RESERVED SEATING.&nbsp\;<br />\n<br />\n<span style="font-size:16px\;"><a href="https://gtacc.booktix.net/">CLICK HERE TO PURCHASE TICKETS</a></span></strong></span><br />\n<br />\n<span style="color:#FF0000\;"><b><span style="background-color:#FFFF00\;">DON&#39\;T WAIT TO PURCHASE TICKETS\, AS THERE IS LIMITED SEATING CAPACITY.&nbsp\;</span></b></span><br />\n&nbsp\;
LOCATION:Tomball High School Auditorium 30330 Quinn Rd. Tomball\, TX 77375
UID:e.155.38062
SEQUENCE:3
DTSTAMP:20260419T145824Z
URL:http://tomballchamber-gzcms.preview.gochambermaster.com/events/details/miss-tomball-2024-38062
END:VEVENT

END:VCALENDAR
