BEGIN:VCALENDAR
VERSION:2.0
PRODID:-//ChamberMaster//Event Calendar 2.0//EN
METHOD:PUBLISH
X-PUBLISHED-TTL:P3D
REFRESH-INTERVAL:P3D
CALSCALE:GREGORIAN
BEGIN:VEVENT
DTSTART:20210209T140000Z
DTEND:20210209T150000Z
X-MICROSOFT-CDO-ALLDAYEVENT:FALSE
SUMMARY:Mobility & Transportation Committee Meeting
DESCRIPTION:Topic: "A Paradigm Shift In Freight the Freight Shuttle XPRESS (FSX)"\n\n \n\nSpeaker: Stephen S. Roop\, Ph.D:  originator and designer of the Freight Shuttle system and the CEO of Freight Shuttle XPRESS (FSX). \n\n \n\nThe Freight Shuttle Xpress (FSX) concept was initiated at the Texas A&M Transportation Institute for the purposes of finding a low-emissions alternative to moving freight and relieving congestion created by trucks in heavy freight corridors. The Freight Shuttle moves truck trailers (up to 53 ft)\, domestic intermodal containers (up to 53 ft)\, and all sizes of ocean shipping containers via emissions-free\, electric-powered transporters on elevated guideways in the medians of highways and other rights-of-way over distances of up to 500 miles. \n\n \n\n \n\nWe encourage attendees to go to www.FreightShuttle.com prior to the meeting for more information.
X-ALT-DESC;FMTTYPE=text/html:Topic: &ldquo\;A Paradigm Shift In Freight&hellip\;the Freight Shuttle XPRESS (FSX)&rdquo\;<br />\n&nbsp\;<br />\nSpeaker:&nbsp\;Stephen S. Roop\, Ph.D:&nbsp\; originator and designer of the Freight Shuttle system and the CEO of Freight Shuttle XPRESS (FSX).&nbsp\;<br />\n&nbsp\;<br />\nThe Freight Shuttle Xpress (FSX) concept was initiated at the Texas A&amp\;M Transportation Institute for the purposes of finding a low-emissions alternative to moving freight and relieving congestion created by trucks in heavy freight corridors. The Freight Shuttle moves truck trailers (up to 53 ft)\, domestic intermodal containers (up to 53 ft)\, and all sizes of ocean shipping containers via emissions-free\, electric-powered transporters on elevated guideways in the medians of highways and other rights-of-way over distances of up to 500 miles.&nbsp\;<br />\n&nbsp\;<br />\n&nbsp\;<br />\n<span style="color:red\;">We encourage attendees to go to <a href="http://www.FreightShuttle.com"><span style="color:red\;">www.FreightShuttle.com</span></a> prior to the meeting for more information. </span>
LOCATION:Via Zoom: Join Zoom Meeting https://us02web.zoom.us/j/84057311379?pwd=QjVDRlY0Q2FoeTJhakFQU1laN2ZMUT09 Meeting ID: 840 5731 1379 Passcode: 559357 One tap mobile +13462487799\,\,84057311379#\,\,\,\,*559357# US (Houston) +16699009128\,\,84057311379#\,\,\,\,*559357# US (San Jose)
UID:e.155.7332
SEQUENCE:3
DTSTAMP:20260423T232438Z
URL:http://tomballchamber-gzcms.preview.gochambermaster.com/events/details/mobility-transportation-committee-meeting-02-09-2021-7332
END:VEVENT

END:VCALENDAR
