BEGIN:VCALENDAR
VERSION:2.0
PRODID:-//ChamberMaster//Event Calendar 2.0//EN
METHOD:PUBLISH
X-PUBLISHED-TTL:P3D
REFRESH-INTERVAL:P3D
CALSCALE:GREGORIAN
BEGIN:VEVENT
DTSTART:20210608T130000Z
DTEND:20210608T140000Z
X-MICROSOFT-CDO-ALLDAYEVENT:FALSE
SUMMARY:Mobility & Transportation Committee Meeting
DESCRIPTION:Join us for updates and discussions regarding local mobility and transportation topics. \n\n \nJoin Zoom Meeting\n\nhttps://us02web.zoom.us/j/82373180291?pwd=Y3VnczJXL1ZLN0FmYm9WZkFFL2dEZz09 \n\nMeeting ID: 823 7318 0291\n\nPasscode: 943136\n\nOne tap mobile\n\n+13462487799\,\,82373180291#\,\,\,\,*943136# US (Houston)\n\n+16699009128\,\,82373180291#\,\,\,\,*943136# US (San Jose)
X-ALT-DESC;FMTTYPE=text/html:Join us for updates and discussions regarding local mobility and transportation topics.&nbsp\;<br />\n&nbsp\;\n<p>Join Zoom Meeting<br />\n<a href="https://us02web.zoom.us/j/82373180291?pwd=Y3VnczJXL1ZLN0FmYm9WZkFFL2dEZz09">https://us02web.zoom.us/j/82373180291?pwd=Y3VnczJXL1ZLN0FmYm9WZkFFL2dEZz09</a> <o:p></o:p></p>\n\n<p>Meeting ID: 823 7318 0291<br />\nPasscode: 943136<br />\nOne tap mobile<br />\n+13462487799\,\,82373180291#\,\,\,\,*943136# US (Houston)<br />\n+16699009128\,\,82373180291#\,\,\,\,*943136# US (San Jose) <o:p></o:p></p>\n
LOCATION:VIA Zoom
UID:e.155.7336
SEQUENCE:3
DTSTAMP:20260423T105908Z
URL:http://tomballchamber-gzcms.preview.gochambermaster.com/events/details/mobility-transportation-committee-meeting-06-08-2021-7336
END:VEVENT

END:VCALENDAR
