BEGIN:VCALENDAR
VERSION:2.0
PRODID:-//ChamberMaster//Event Calendar 2.0//EN
METHOD:PUBLISH
X-PUBLISHED-TTL:P3D
REFRESH-INTERVAL:P3D
CALSCALE:GREGORIAN
BEGIN:VEVENT
DTSTART:20210713T130000Z
DTEND:20210713T140000Z
X-MICROSOFT-CDO-ALLDAYEVENT:FALSE
SUMMARY:Mobility & Transportation Committee Meeting
DESCRIPTION:Please join us IN PERSON on Tuesday\, July 13 at 8am in the Chamber Board Room (29201 Quinn Road\, upstairs).\n\n \n\nSpeaker:  Keith Coleman\, Director of Logistics\, Tomball ISD\n\n \n\nHope you can make it!  We will have the coffee!  Time to get out of the house!
X-ALT-DESC;FMTTYPE=text/html:Please join us IN PERSON on Tuesday\, July 13 at 8am in the Chamber Board Room (29201 Quinn Road\, upstairs).<br />\n&nbsp\;<br />\nSpeaker:&nbsp\; Keith Coleman\, Director of Logistics\, Tomball ISD<br />\n&nbsp\;<br />\nHope you can make it!&nbsp\; We will have the coffee!&nbsp\; Time to get out of the house!
LOCATION:29201 Quinn Rd. Tomball\, Texas 77375 Upstairs Conference Room
UID:e.155.7337
SEQUENCE:3
DTSTAMP:20260423T020237Z
URL:http://tomballchamber-gzcms.preview.gochambermaster.com/events/details/mobility-transportation-committee-meeting-07-13-2021-7337
END:VEVENT

END:VCALENDAR
