BEGIN:VCALENDAR
VERSION:2.0
PRODID:-//ChamberMaster//Event Calendar 2.0//EN
METHOD:PUBLISH
X-PUBLISHED-TTL:P3D
REFRESH-INTERVAL:P3D
CALSCALE:GREGORIAN
BEGIN:VEVENT
DTSTART:20211012T130000Z
DTEND:20211012T140000Z
X-MICROSOFT-CDO-ALLDAYEVENT:FALSE
SUMMARY:Mobility & Transportation Committee Meeting
DESCRIPTION:Catherine McCreight\, Senior Transportation Planner at Texas Department of Transportation will be our guest speaker. She will touch on\n\nthe FM2920/ Tomball Main Street renovation\, FM 2920 expansion from 249 west to 290\, and other TxDOT project updates in the north/ northwest Harris County\, Tomball area.\n\n \nIf you can't be with us in person\, we have the Zoom option below.  Thanks!\n\nJoin Zoom Meeting\n\nhttps://us02web.zoom.us/j/87002216518?pwd=QjhVZmRPRXA3WitnOXpXTk4ySHRTQT09 \n\nMeeting ID: 870 0221 6518\n\nPasscode: 044183\n\nOne tap mobile\n\n+13462487799\,\,87002216518#\,\,\,\,*044183# US (Houston)\n\n+12532158782\,\,87002216518#\,\,\,\,*044183# US (Tacoma) \n\nDial by your location\n\n        +1 346 248 7799 US (Houston)\n\n        +1 253 215 8782 US (Tacoma)\n\n        +1 669 900 9128 US (San Jose)\n\n        +1 646 558 8656 US (New York)\n\n        +1 301 715 8592 US (Washington DC)\n\n        +1 312 626 6799 US (Chicago)\n\nMeeting ID: 870 0221 6518\n\nPasscode: 044183\n\nFind your local number: https://us02web.zoom.us/u/kbgMSxtc4J
X-ALT-DESC;FMTTYPE=text/html:<div font-size:="" new="" style="color: rgb(0\, 0\, 0)\; font-family: Georgia\, " text-align:="" times="" white-space:="">Catherine McCreight\, <span style="color: rgba(0\, 0\, 0\, 0.9)\;">Senior Transportation Planner at Texas Department of Transportation will be our guest speaker. She will touch on</span></div>\n\n<div font-size:="" new="" style="color: rgb(0\, 0\, 0)\; font-family: Georgia\, " text-align:="" times="" white-space:="">the FM2920/ Tomball Main Street renovation\, FM 2920 expansion from 249 west to 290\, and other TxDOT project updates in the north/ northwest Harris County\, Tomball area.<br />\n&nbsp\;\n<p>If you can&rsquo\;t be with us in person\, we have the Zoom option below.&nbsp\; Thanks!<o:p></o:p></p>\n\n<p>Join Zoom Meeting<br />\n<a href="https://us02web.zoom.us/j/87002216518?pwd=QjhVZmRPRXA3WitnOXpXTk4ySHRTQT09">https://us02web.zoom.us/j/87002216518?pwd=QjhVZmRPRXA3WitnOXpXTk4ySHRTQT09</a> <o:p></o:p></p>\n\n<p>Meeting ID: 870 0221 6518<br />\nPasscode: 044183<br />\nOne tap mobile<br />\n+13462487799\,\,87002216518#\,\,\,\,*044183# US (Houston)<br />\n+12532158782\,\,87002216518#\,\,\,\,*044183# US (Tacoma) <o:p></o:p></p>\n\n<p>Dial by your location<br />\n&nbsp\;&nbsp\;&nbsp\;&nbsp\;&nbsp\;&nbsp\;&nbsp\; +1 346 248 7799 US (Houston)<br />\n&nbsp\;&nbsp\;&nbsp\;&nbsp\;&nbsp\;&nbsp\;&nbsp\; +1 253 215 8782 US (Tacoma)<br />\n&nbsp\;&nbsp\;&nbsp\;&nbsp\;&nbsp\;&nbsp\;&nbsp\; +1 669 900 9128 US (San Jose)<br />\n&nbsp\;&nbsp\;&nbsp\;&nbsp\;&nbsp\;&nbsp\;&nbsp\; +1 646 558 8656 US (New York)<br />\n&nbsp\;&nbsp\;&nbsp\;&nbsp\;&nbsp\;&nbsp\;&nbsp\; +1 301 715 8592 US (Washington DC)<br />\n&nbsp\;&nbsp\;&nbsp\;&nbsp\;&nbsp\;&nbsp\;&nbsp\; +1 312 626 6799 US (Chicago)<br />\nMeeting ID: 870 0221 6518<br />\nPasscode: 044183<br />\nFind your local number: <a href="https://us02web.zoom.us/u/kbgMSxtc4J">https://us02web.zoom.us/u/kbgMSxtc4J</a> <o:p></o:p></p>\n</div>\n
LOCATION:29201 Quinn Rd. Tomball\, Texas 77375 Upstairs Conference Room
UID:e.155.7340
SEQUENCE:3
DTSTAMP:20260422T165512Z
URL:http://tomballchamber-gzcms.preview.gochambermaster.com/events/details/mobility-transportation-committee-meeting-10-12-2021-7340
END:VEVENT

END:VCALENDAR
