BEGIN:VCALENDAR
VERSION:2.0
PRODID:-//ChamberMaster//Event Calendar 2.0//EN
METHOD:PUBLISH
X-PUBLISHED-TTL:P3D
REFRESH-INTERVAL:P3D
CALSCALE:GREGORIAN
BEGIN:VEVENT
DTSTART:20221004T220000Z
DTEND:20221005T010000Z
X-MICROSOFT-CDO-ALLDAYEVENT:FALSE
SUMMARY:National Night Out
DESCRIPTION:Join us as we celebrate National Night Out on Tuesday\, October 4\, 2022\, at Tomball Depot Plaza from 5:00 p.m. to 8:00 p.m. You can visit with other neighbors\, local police officers\, firefighters\, EMS\, and city officials to strengthen neighborhood spirit and help make our community safer. We will have games\, food\, prizes\, music\, and more. Attendance is free!
X-ALT-DESC;FMTTYPE=text/html:Join us as we celebrate National Night Out on Tuesday\, October 4\, 2022\, at Tomball Depot Plaza from 5:00 p.m. to 8:00 p.m. You can visit with other neighbors\, local police officers\, firefighters\, EMS\, and city officials to strengthen neighborhood spirit and help make our community safer. We will have games\, food\, prizes\, music\, and more. Attendance is free!
LOCATION:Tomball Depot Plaza 201 S. Elm St Tomball\, TX 77375
UID:e.155.37282
SEQUENCE:3
DTSTAMP:20260420T224552Z
URL:http://tomballchamber-gzcms.preview.gochambermaster.com/events/details/national-night-out-37282
END:VEVENT

END:VCALENDAR
