BEGIN:VCALENDAR
VERSION:2.0
PRODID:-//ChamberMaster//Event Calendar 2.0//EN
METHOD:PUBLISH
X-PUBLISHED-TTL:P3D
REFRESH-INTERVAL:P3D
CALSCALE:GREGORIAN
BEGIN:VEVENT
DTSTART:20201205T160000Z
DTEND:20201205T173000Z
X-MICROSOFT-CDO-ALLDAYEVENT:FALSE
SUMMARY:Online Wills\, Trusts and Estate Planning
DESCRIPTION:Join LSC-Tomball Community Library and licensed attorney\, Evelyn L. Gordon as she dispels common myths about estate planning. Ms. Gordon\, an experienced estate planning attorney\, discusses what we can do right now to get started. In this seminar\, she will discuss why you should plan and the disadvantages of not planning as well as discussing the last will and testament\, declarations of guardianship\, durable power of attorney and advance medical directives. Do not miss this amazing seminar! Saturday\, December 5th at 10 am Registration is required https://www.hcpl.net/events/37828
X-ALT-DESC;FMTTYPE=text/html:Join LSC-Tomball Community Library and licensed attorney\, Evelyn L. Gordon as she dispels common myths about estate planning. Ms. Gordon\, an experienced estate planning attorney\, discusses what we can do right now to get started. In this seminar\, she will discuss why you should plan and the disadvantages of not planning as well as discussing the last will and testament\, declarations of guardianship\, durable power of attorney and advance medical directives. Do not miss this amazing seminar! Saturday\, December 5th at 10 am Registration is required https://www.hcpl.net/events/37828
LOCATION:Virtual LSC-Tomball Community Library. Registration is required https://www.hcpl.net/events/37828
UID:e.155.34114
SEQUENCE:3
DTSTAMP:20260424T063122Z
URL:http://tomballchamber-gzcms.preview.gochambermaster.com/events/details/online-wills-trusts-and-estate-planning-34114
END:VEVENT

END:VCALENDAR
