BEGIN:VCALENDAR
VERSION:2.0
PRODID:-//ChamberMaster//Event Calendar 2.0//EN
METHOD:PUBLISH
X-PUBLISHED-TTL:P3D
REFRESH-INTERVAL:P3D
CALSCALE:GREGORIAN
BEGIN:VEVENT
DTSTART:20221022T000000Z
DTEND:20221022T040000Z
X-MICROSOFT-CDO-ALLDAYEVENT:FALSE
SUMMARY:Operation: Achieve Independence "Changing the Odds" Gala
DESCRIPTION:We are happy to announce the 2022 Changing the Odds gala\, set to take place on Friday\, October 21st at 7pm at Shirley Acres.\n\n \n\nEach year\, thousands of young adults are aging out of foster care without any preparation for what the world has to offer...we want to change that! Help us "Change the Odds" as we present a casino night\, benefiting Operation: Achieve Independence.\n\n \n\nThere are opportunities for everyone to get involved\, from $100 early bird tickets to underwriting and table sponsorship opportunities!\n\n \n\nQuestions? Email nicole@oaicares.org
X-ALT-DESC;FMTTYPE=text/html:<div>We are happy to announce the 2022 Changing the Odds gala\, set to take place on Friday\, October 21st at 7pm at Shirley Acres.<br />\n&nbsp\;</div>\n\n<div>Each year\, thousands of young adults are aging out of foster care without any preparation for what the world has to offer...we want to change that! Help us &quot\;Change the Odds&quot\; as we present a casino night\, benefiting Operation: Achieve Independence.<br />\n&nbsp\;</div>\n\n<div>There are opportunities for everyone to get involved\, from $100 early bird tickets to underwriting and table sponsorship opportunities!</div>\n\n<div>&nbsp\;</div>\n\n<div>Questions? Email nicole@oaicares.org</div>\n
LOCATION:Shirley Acres 217 Woerner Rd Houston\, TX 77090
UID:e.155.36202
SEQUENCE:3
DTSTAMP:20260420T211203Z
URL:http://tomballchamber-gzcms.preview.gochambermaster.com/events/details/operation-achieve-independence-changing-the-odds-gala-36202
END:VEVENT

END:VCALENDAR
